BEGIN:VCALENDAR
VERSION:2.0
PRODID:-//Minnesota Freemasons - ECPv6.15.20//NONSGML v1.0//EN
CALSCALE:GREGORIAN
METHOD:PUBLISH
X-WR-CALNAME:Minnesota Freemasons
X-ORIGINAL-URL:https://mnfreemasons.org
X-WR-CALDESC:Events for Minnesota Freemasons
REFRESH-INTERVAL;VALUE=DURATION:PT1H
X-Robots-Tag:noindex
X-PUBLISHED-TTL:PT1H
BEGIN:VTIMEZONE
TZID:America/Chicago
BEGIN:DAYLIGHT
TZOFFSETFROM:-0600
TZOFFSETTO:-0500
TZNAME:CDT
DTSTART:20210314T080000
END:DAYLIGHT
BEGIN:STANDARD
TZOFFSETFROM:-0500
TZOFFSETTO:-0600
TZNAME:CST
DTSTART:20211107T070000
END:STANDARD
BEGIN:DAYLIGHT
TZOFFSETFROM:-0600
TZOFFSETTO:-0500
TZNAME:CDT
DTSTART:20220313T080000
END:DAYLIGHT
BEGIN:STANDARD
TZOFFSETFROM:-0500
TZOFFSETTO:-0600
TZNAME:CST
DTSTART:20221106T070000
END:STANDARD
BEGIN:DAYLIGHT
TZOFFSETFROM:-0600
TZOFFSETTO:-0500
TZNAME:CDT
DTSTART:20230312T080000
END:DAYLIGHT
BEGIN:STANDARD
TZOFFSETFROM:-0500
TZOFFSETTO:-0600
TZNAME:CST
DTSTART:20231105T070000
END:STANDARD
END:VTIMEZONE
BEGIN:VEVENT
DTSTART;TZID=America/Chicago:20221127T100000
DTEND;TZID=America/Chicago:20221127T140000
DTSTAMP:20260421T142025
CREATED:20221017T171252Z
LAST-MODIFIED:20221017T173412Z
UID:10000242-1669543200-1669557600@mnfreemasons.org
SUMMARY:Santa Photo Shoot - Forest Lake
DESCRIPTION:
URL:https://mnfreemasons.org/event/santa-photo-shoot/
LOCATION:Forest Lake Lodge No. 344\, 119 8th Avenue SE\, Forest Lake\, Minnesota\, 55025\, United States
CATEGORIES:Lodge Events,Metroeast Area
GEO:45.271479;-92.982036
X-APPLE-STRUCTURED-LOCATION;VALUE=URI;X-ADDRESS=Forest Lake Lodge No. 344 119 8th Avenue SE Forest Lake Minnesota 55025 United States;X-APPLE-RADIUS=500;X-TITLE=119 8th Avenue SE:geo:-92.982036,45.271479
END:VEVENT
BEGIN:VEVENT
DTSTART;TZID=America/Chicago:20221128T183000
DTEND;TZID=America/Chicago:20221128T223000
DTSTAMP:20260421T142025
CREATED:20221017T171252Z
LAST-MODIFIED:20221017T173515Z
UID:10000243-1669660200-1669674600@mnfreemasons.org
SUMMARY:MM Degree - Rochester
DESCRIPTION:
URL:https://mnfreemasons.org/event/mm-degree-2/
LOCATION:Rochester Lodge No. 21\, 2002 SW 2nd Street\, Rochester\, Minnesota\, 55901\, United States
CATEGORIES:Degree,Southeast Area
GEO:44.021258;-92.494347
X-APPLE-STRUCTURED-LOCATION;VALUE=URI;X-ADDRESS=Rochester Lodge No. 21 2002 SW 2nd Street Rochester Minnesota 55901 United States;X-APPLE-RADIUS=500;X-TITLE=2002 SW 2nd Street:geo:-92.494347,44.021258
END:VEVENT
BEGIN:VEVENT
DTSTART;TZID=America/Chicago:20221129T173000
DTEND;TZID=America/Chicago:20221129T220000
DTSTAMP:20260421T142025
CREATED:20221108T183207Z
LAST-MODIFIED:20231114T202222Z
UID:10000258-1669743000-1669759200@mnfreemasons.org
SUMMARY:Churchill Celebration
DESCRIPTION:Join Sir Winston Churchill Lodge No. 351 as they celebrate their patron’s birthday with a traditional table lodge-style dinner. Cash bar. Non-Mason guests are welcome. \nRSVP: MWB Tom Jackson\, tom@pro-activemktg.com.
URL:https://mnfreemasons.org/event/churchill-celebration/
LOCATION:Lake Harriet Lodge No. 277\, 4519 France Avenue South\, Minneapolis\, Minnesota\, 55410\, United States
CATEGORIES:Table Lodge
ORGANIZER;CN="MW Tom Jackson":MAILTO:tom@pro-activemktg.com
GEO:44.920757;-93.329094
X-APPLE-STRUCTURED-LOCATION;VALUE=URI;X-ADDRESS=Lake Harriet Lodge No. 277 4519 France Avenue South Minneapolis Minnesota 55410 United States;X-APPLE-RADIUS=500;X-TITLE=4519 France Avenue South:geo:-93.329094,44.920757
END:VEVENT
END:VCALENDAR