BEGIN:VCALENDAR
VERSION:2.0
PRODID:-//Minnesota Freemasons - ECPv6.15.20//NONSGML v1.0//EN
CALSCALE:GREGORIAN
METHOD:PUBLISH
X-WR-CALNAME:Minnesota Freemasons
X-ORIGINAL-URL:https://mnfreemasons.org
X-WR-CALDESC:Events for Minnesota Freemasons
REFRESH-INTERVAL;VALUE=DURATION:PT1H
X-Robots-Tag:noindex
X-PUBLISHED-TTL:PT1H
BEGIN:VTIMEZONE
TZID:America/Chicago
BEGIN:DAYLIGHT
TZOFFSETFROM:-0600
TZOFFSETTO:-0500
TZNAME:CDT
DTSTART:20210314T080000
END:DAYLIGHT
BEGIN:STANDARD
TZOFFSETFROM:-0500
TZOFFSETTO:-0600
TZNAME:CST
DTSTART:20211107T070000
END:STANDARD
BEGIN:DAYLIGHT
TZOFFSETFROM:-0600
TZOFFSETTO:-0500
TZNAME:CDT
DTSTART:20220313T080000
END:DAYLIGHT
BEGIN:STANDARD
TZOFFSETFROM:-0500
TZOFFSETTO:-0600
TZNAME:CST
DTSTART:20221106T070000
END:STANDARD
BEGIN:DAYLIGHT
TZOFFSETFROM:-0600
TZOFFSETTO:-0500
TZNAME:CDT
DTSTART:20230312T080000
END:DAYLIGHT
BEGIN:STANDARD
TZOFFSETFROM:-0500
TZOFFSETTO:-0600
TZNAME:CST
DTSTART:20231105T070000
END:STANDARD
END:VTIMEZONE
BEGIN:VEVENT
DTSTART;TZID=America/Chicago:20220814T110000
DTEND;TZID=America/Chicago:20220814T180000
DTSTAMP:20260425T152711
CREATED:20220630T151929Z
LAST-MODIFIED:20231114T202222Z
UID:10000200-1660474800-1660500000@mnfreemasons.org
SUMMARY:Tee It Up Charity Golf Tournament
DESCRIPTION:Sherburne Lodge #95 Charity\n4th Annual Tee It Up Tourney \nSunday\, August 14th\n12pm Shotgun (11am Check In) \nPheasant Acers Golf Course\nFoursomes $320 / Singles $80\nAll Proceeds going to Jacks Baskets\nAnd Believet Service Dogs \nIncludes:\n18 Holes\, Golf Cart\, Dinner & Goody Bag\nWith Games of Chance at Several Holes\nSign Up Deadline: August 7th \nFor Tournament Details Contact:\nWB Dennis Niles: 763-227-7685\nOr Email dtniles@Comcast.Net
URL:https://mnfreemasons.org/event/tee-it-up-charity-golf-tournament/
LOCATION:Pheasant Acers Golf Course\, 10705 County Rd 116\, Rogers\, 55374
CATEGORIES:Lodge Events
ORGANIZER;CN="Sherburne Lodge #95":MAILTO:Sweetidiot@Aol.Com
END:VEVENT
BEGIN:VEVENT
DTSTART;TZID=America/Chicago:20220827T080000
DTEND;TZID=America/Chicago:20220827T110000
DTSTAMP:20260425T152711
CREATED:20220721T135342Z
LAST-MODIFIED:20231114T202222Z
UID:10000202-1661587200-1661598000@mnfreemasons.org
SUMMARY:Newport Lodge Pancake Breakfast
DESCRIPTION:Pancake Breakfast before the St Paul Park Heritage Days Parade. The parade is an Osman Shrine Temple parade so come early and eat a hearty breakfast or buy some delicious baked goods from the Esther #26 OES. Pancakes\, eggs\, bacon\, sausage\, juice\, coffee\, and milk will be served. $9 for adults\, $6 children 6 to 12 and children under 6 are free.
URL:https://mnfreemasons.org/event/newport-lodge-pancake-breakfast/
LOCATION:Newport Lodge No. 118\, 644 West Broadway\, St. Paul Park\, Minnesota\, 55071\, United States
CATEGORIES:pancake breakfast
GEO:44.847628;-92.991678
X-APPLE-STRUCTURED-LOCATION;VALUE=URI;X-ADDRESS=Newport Lodge No. 118 644 West Broadway St. Paul Park Minnesota 55071 United States;X-APPLE-RADIUS=500;X-TITLE=644 West Broadway:geo:-92.991678,44.847628
END:VEVENT
BEGIN:VEVENT
DTSTART;TZID=America/Chicago:20220906T190000
DTEND;TZID=America/Chicago:20220906T213000
DTSTAMP:20260425T152711
CREATED:20220804T143006Z
LAST-MODIFIED:20231114T202222Z
UID:10000206-1662490800-1662499800@mnfreemasons.org
SUMMARY:EA Degree - Sherburne Lodge
DESCRIPTION:Sherburne Lodge #95 is conferring an EA Degree on their 1st Stated Meeting Night of the Month of September. A Dinner will be served at 6pm with the Degree to follow at 7pm.
URL:https://mnfreemasons.org/event/sherburne-lodge-ea-degree/
LOCATION:Sherburne Lodge No. 95\, 214 Central Avenue\, Osseo\, Minnesota\, 55369\, United States
CATEGORIES:Degree,Lodge Events,Metrowest Area
ORGANIZER;CN="Sherburne Lodge #95":MAILTO:Sweetidiot@Aol.Com
GEO:45.11839;-93.40216
X-APPLE-STRUCTURED-LOCATION;VALUE=URI;X-ADDRESS=Sherburne Lodge No. 95 214 Central Avenue Osseo Minnesota 55369 United States;X-APPLE-RADIUS=500;X-TITLE=214 Central Avenue:geo:-93.40216,45.11839
END:VEVENT
BEGIN:VEVENT
DTSTART;TZID=America/Chicago:20220914T190000
DTEND;TZID=America/Chicago:20220914T210000
DTSTAMP:20260425T152711
CREATED:20220428T180721Z
LAST-MODIFIED:20220907T161841Z
UID:10000193-1663182000-1663189200@mnfreemasons.org
SUMMARY:SE Area Fourth School of Instruction
DESCRIPTION:Join us for the Fourth School of Instruction at Winona Lodge which teaches everything not taught in the first three schools. Balloting\, Investigating visiting Brethren\, Receiving a Grand Lodge Officer\, Manual of the Rod\, Calling from Labor to Refreshment and back to Labor\, and anything else that comes up. Dinner will be served at 6:00 PM with a Masters and Wardens meeting and the School will start promptly at 7:00 PM. This is the first event in the Southeast Education Challenge. Get your first of five Challenge Coins!\nPlease click the link to RSVP and sign up for a part.
URL:https://mnfreemasons.org/event/se-area-fourth-school-of-instruction/
LOCATION:Winona Lodge No. 18\, 926 W. 5th Street\, Winona\, Minnesota\, 55987\, United States
CATEGORIES:Education,School of Instruction,Southeast Area
ORGANIZER;CN="Clinton Christensen":MAILTO:clint@atlasremodelers.com
GEO:44.054307;-91.661684
X-APPLE-STRUCTURED-LOCATION;VALUE=URI;X-ADDRESS=Winona Lodge No. 18 926 W. 5th Street Winona Minnesota 55987 United States;X-APPLE-RADIUS=500;X-TITLE=926 W. 5th Street:geo:-91.661684,44.054307
END:VEVENT
BEGIN:VEVENT
DTSTART;TZID=America/Chicago:20220919T183000
DTEND;TZID=America/Chicago:20220919T200000
DTSTAMP:20260425T152711
CREATED:20220906T133126Z
LAST-MODIFIED:20220907T161841Z
UID:10000208-1663612200-1663617600@mnfreemasons.org
SUMMARY:Face It Foundation at Red Wing #8
DESCRIPTION:The Red Wing Lodge’s Masonic Study Group welcomes representatives of the Face It Foundation for a presentation on the Foundation’s work. Face It “was founded in 2009 with the goal to help men understand and overcome depression\, and reduce the rate of male suicide”. A light meal will be served at 6:30 PM with the presentation to follow at 7PM. No RSVP necessary.
URL:https://mnfreemasons.org/event/face-it-foundation-at-red-wing-8/
LOCATION:Red Wing Lodge No. 8\, 454 West 4th\, Red Wing\, Minnesota\, 55066\, United States
CATEGORIES:Education
GEO:44.5638;-92.533875
X-APPLE-STRUCTURED-LOCATION;VALUE=URI;X-ADDRESS=Red Wing Lodge No. 8 454 West 4th Red Wing Minnesota 55066 United States;X-APPLE-RADIUS=500;X-TITLE=454 West 4th:geo:-92.533875,44.5638
END:VEVENT
BEGIN:VEVENT
DTSTART;TZID=America/Chicago:20220921T173000
DTEND;TZID=America/Chicago:20220921T213000
DTSTAMP:20260425T152711
CREATED:20220830T124811Z
LAST-MODIFIED:20220907T161841Z
UID:10000207-1663781400-1663795800@mnfreemasons.org
SUMMARY:Minneahaha Lodge #165 EA Degree
DESCRIPTION:Formal attire please. RSVP minnehahaldg165@gmail.com if you’re attending so that the lodge may plan accordingly. Dinner at 6pm. Degree at 7pm.
URL:https://mnfreemasons.org/event/minneahaha-lodge-165-ea-degree/
LOCATION:Minnehaha Lodge No. 165\, 5149 Bloomington Avenue South\, Minneapolis\, Minnesota\, 55417\, United States
CATEGORIES:Degree
GEO:44.909782;-93.25244
X-APPLE-STRUCTURED-LOCATION;VALUE=URI;X-ADDRESS=Minnehaha Lodge No. 165 5149 Bloomington Avenue South Minneapolis Minnesota 55417 United States;X-APPLE-RADIUS=500;X-TITLE=5149 Bloomington Avenue South:geo:-93.25244,44.909782
END:VEVENT
BEGIN:VEVENT
DTSTART;TZID=America/Chicago:20220924T100000
DTEND;TZID=America/Chicago:20220924T130000
DTSTAMP:20260425T152711
CREATED:20220418T182924Z
LAST-MODIFIED:20220907T161841Z
UID:10000185-1664013600-1664024400@mnfreemasons.org
SUMMARY:Corinthian Lodge No. 67 Building Rededication
DESCRIPTION:Corinthian Lodge No. 67 in Farmington will have a Grand Lodge rededication of their building to reflect the substantial building repairs and improvements completed in the past year. The ceremony will be held on Saturday September 24th at 10 AM at Corinthian Lodge No. 67 located at 326 3rd Street in Farmington\, MN.
URL:https://mnfreemasons.org/event/corinthian-lodge-no-67-building-rededication/
LOCATION:Corinthian Lodge No. 67\, 326 - 3rd Street\, Farmington\, Minnesota\, 55024\, United States
CATEGORIES:Cornerstone Ceremony,Grand Lodge Events,Lodge Events,Southeast Area
ORGANIZER;CN="Rick Vance DR District 26":MAILTO:rfvance@charter.net
GEO:44.639581;-93.145558
X-APPLE-STRUCTURED-LOCATION;VALUE=URI;X-ADDRESS=Corinthian Lodge No. 67 326 - 3rd Street Farmington Minnesota 55024 United States;X-APPLE-RADIUS=500;X-TITLE=326 - 3rd Street:geo:-93.145558,44.639581
END:VEVENT
BEGIN:VEVENT
DTSTART;TZID=America/Chicago:20220925T080000
DTEND;TZID=America/Chicago:20220925T130000
DTSTAMP:20260425T152711
CREATED:20220414T165244Z
LAST-MODIFIED:20220907T161841Z
UID:10000177-1664092800-1664110800@mnfreemasons.org
SUMMARY:South Minneapolis Pancake Breakfast
DESCRIPTION:Classic Breakfast $10 donation all you can eat!\n-Buttermilk Pancakes\n-Sausage Links\n-Scrambled Eggs \nOR…. \nChef’s Signature Brunch $15 donation 1-serving!\n-Buttermilk Pancakes w/ Blueberry Compote\n-Millionaires Bacon\n-Creamy Hashbrowns\n-Mediterranean Vegetable Frittata\n-Mixed fruit \nNet proceeds to benefit Hiawatha Chapter of DeMolay and Face It Foundation.
URL:https://mnfreemasons.org/event/south-minneapolis-pancake-breakfast/
LOCATION:Minnehaha Lodge No. 165\, 5149 Bloomington Avenue South\, Minneapolis\, Minnesota\, 55417\, United States
CATEGORIES:Fundraiser,Lodge Events,Metrowest Area,pancake breakfast
ORGANIZER;CN="Cataract Lodge No. 2":MAILTO:Douglas.Campbell@me.com
GEO:44.909782;-93.25244
X-APPLE-STRUCTURED-LOCATION;VALUE=URI;X-ADDRESS=Minnehaha Lodge No. 165 5149 Bloomington Avenue South Minneapolis Minnesota 55417 United States;X-APPLE-RADIUS=500;X-TITLE=5149 Bloomington Avenue South:geo:-93.25244,44.909782
END:VEVENT
END:VCALENDAR