BEGIN:VCALENDAR
VERSION:2.0
PRODID:-//Minnesota Freemasons - ECPv6.15.20//NONSGML v1.0//EN
CALSCALE:GREGORIAN
METHOD:PUBLISH
X-ORIGINAL-URL:https://mnfreemasons.org
X-WR-CALDESC:Events for Minnesota Freemasons
REFRESH-INTERVAL;VALUE=DURATION:PT1H
X-Robots-Tag:noindex
X-PUBLISHED-TTL:PT1H
BEGIN:VTIMEZONE
TZID:America/Chicago
BEGIN:DAYLIGHT
TZOFFSETFROM:-0600
TZOFFSETTO:-0500
TZNAME:CDT
DTSTART:20210314T080000
END:DAYLIGHT
BEGIN:STANDARD
TZOFFSETFROM:-0500
TZOFFSETTO:-0600
TZNAME:CST
DTSTART:20211107T070000
END:STANDARD
BEGIN:DAYLIGHT
TZOFFSETFROM:-0600
TZOFFSETTO:-0500
TZNAME:CDT
DTSTART:20220313T080000
END:DAYLIGHT
BEGIN:STANDARD
TZOFFSETFROM:-0500
TZOFFSETTO:-0600
TZNAME:CST
DTSTART:20221106T070000
END:STANDARD
BEGIN:DAYLIGHT
TZOFFSETFROM:-0600
TZOFFSETTO:-0500
TZNAME:CDT
DTSTART:20230312T080000
END:DAYLIGHT
BEGIN:STANDARD
TZOFFSETFROM:-0500
TZOFFSETTO:-0600
TZNAME:CST
DTSTART:20231105T070000
END:STANDARD
END:VTIMEZONE
BEGIN:VEVENT
DTSTART;TZID=America/Chicago:20221101T193000
DTEND;TZID=America/Chicago:20221101T220000
DTSTAMP:20260420T065802
CREATED:20221017T171250Z
LAST-MODIFIED:20221017T172816Z
UID:10000234-1667331000-1667340000@mnfreemasons.org
SUMMARY:FC Degree - Farmington
DESCRIPTION:
URL:https://mnfreemasons.org/event/fc-degree-4/
LOCATION:Corinthian Lodge No. 67\, 326 - 3rd Street\, Farmington\, Minnesota\, 55024\, United States
CATEGORIES:Degree,Southeast Area
GEO:44.639581;-93.145558
X-APPLE-STRUCTURED-LOCATION;VALUE=URI;X-ADDRESS=Corinthian Lodge No. 67 326 - 3rd Street Farmington Minnesota 55024 United States;X-APPLE-RADIUS=500;X-TITLE=326 - 3rd Street:geo:-93.145558,44.639581
END:VEVENT
BEGIN:VEVENT
DTSTART;TZID=America/Chicago:20221109T190000
DTEND;TZID=America/Chicago:20221109T210000
DTSTAMP:20260420T065802
CREATED:20220429T170647Z
LAST-MODIFIED:20221017T171519Z
UID:10000195-1668020400-1668027600@mnfreemasons.org
SUMMARY:SE Area Third School of Instruction
DESCRIPTION:Join us for the Third School of Instruction at Mankato Lodge No. 12. We will opening\, going through the second section of the Degree\, and closing on the third degree. Dinner will be served at 6:00 PM with a Masters and Wardens meeting and the School will start promptly at 7:00 PM. This is the third event in the Southeast Education Challenge. Get your third of the five Challenge Coins!\nPlease click the link to RSVP and sign up for a part.
URL:https://mnfreemasons.org/event/se-area-third-school/
LOCATION:Mankato Lodge No. 12\, 309 S. 2nd Street\, Mankato\, Minnesota\, 56001\, United States
CATEGORIES:School of Instruction,Southeast Area
ORGANIZER;CN="Clinton Christensen":MAILTO:clint@atlasremodelers.com
GEO:44.164656;-94.003192
X-APPLE-STRUCTURED-LOCATION;VALUE=URI;X-ADDRESS=Mankato Lodge No. 12 309 S. 2nd Street Mankato Minnesota 56001 United States;X-APPLE-RADIUS=500;X-TITLE=309 S. 2nd Street:geo:-94.003192,44.164656
END:VEVENT
BEGIN:VEVENT
DTSTART;TZID=America/Chicago:20221114T193000
DTEND;TZID=America/Chicago:20221114T223000
DTSTAMP:20260420T065802
CREATED:20221017T171250Z
LAST-MODIFIED:20221017T173043Z
UID:10000237-1668454200-1668465000@mnfreemasons.org
SUMMARY:FC Degree - Owatonna
DESCRIPTION:
URL:https://mnfreemasons.org/event/fc-degree-5/
LOCATION:Star in the East Lodge No. 33\, 311 South Oak Avenue\, Owatonna\, Minnesota\, 55060\, United States
CATEGORIES:Degree,Southeast Area
GEO:44.082596;-93.228516
X-APPLE-STRUCTURED-LOCATION;VALUE=URI;X-ADDRESS=Star in the East Lodge No. 33 311 South Oak Avenue Owatonna Minnesota 55060 United States;X-APPLE-RADIUS=500;X-TITLE=311 South Oak Avenue:geo:-93.228516,44.082596
END:VEVENT
BEGIN:VEVENT
DTSTART;TZID=America/Chicago:20221115T180000
DTEND;TZID=America/Chicago:20221115T210000
DTSTAMP:20260420T065802
CREATED:20221017T171252Z
LAST-MODIFIED:20221017T173021Z
UID:10000239-1668535200-1668546000@mnfreemasons.org
SUMMARY:Wild Game Potluck - Pleasant Grove
DESCRIPTION:
URL:https://mnfreemasons.org/event/wild-game-potluck/
LOCATION:Pleasant Grove Lodge No. 22\, Main Street & Sinclair\, Pleasant Grove\, Minnesota\, 55976\, United States
CATEGORIES:Lodge Events,Southeast Area
GEO:43.900276;-92.36162
X-APPLE-STRUCTURED-LOCATION;VALUE=URI;X-ADDRESS=Pleasant Grove Lodge No. 22 Main Street & Sinclair Pleasant Grove Minnesota 55976 United States;X-APPLE-RADIUS=500;X-TITLE=Main Street & Sinclair:geo:-92.36162,43.900276
END:VEVENT
BEGIN:VEVENT
DTSTART;TZID=America/Chicago:20221115T193000
DTEND;TZID=America/Chicago:20221115T213000
DTSTAMP:20260420T065802
CREATED:20221017T171251Z
LAST-MODIFIED:20221017T173009Z
UID:10000238-1668540600-1668547800@mnfreemasons.org
SUMMARY:Annual Meeting - Farmington
DESCRIPTION:
URL:https://mnfreemasons.org/event/annual-meeting/
LOCATION:Corinthian Lodge No. 67\, 326 - 3rd Street\, Farmington\, Minnesota\, 55024\, United States
CATEGORIES:Lodge Events,Southeast Area
GEO:44.639581;-93.145558
X-APPLE-STRUCTURED-LOCATION;VALUE=URI;X-ADDRESS=Corinthian Lodge No. 67 326 - 3rd Street Farmington Minnesota 55024 United States;X-APPLE-RADIUS=500;X-TITLE=326 - 3rd Street:geo:-93.145558,44.639581
END:VEVENT
BEGIN:VEVENT
DTSTART;TZID=America/Chicago:20221128T183000
DTEND;TZID=America/Chicago:20221128T223000
DTSTAMP:20260420T065802
CREATED:20221017T171252Z
LAST-MODIFIED:20221017T173515Z
UID:10000243-1669660200-1669674600@mnfreemasons.org
SUMMARY:MM Degree - Rochester
DESCRIPTION:
URL:https://mnfreemasons.org/event/mm-degree-2/
LOCATION:Rochester Lodge No. 21\, 2002 SW 2nd Street\, Rochester\, Minnesota\, 55901\, United States
CATEGORIES:Degree,Southeast Area
GEO:44.021258;-92.494347
X-APPLE-STRUCTURED-LOCATION;VALUE=URI;X-ADDRESS=Rochester Lodge No. 21 2002 SW 2nd Street Rochester Minnesota 55901 United States;X-APPLE-RADIUS=500;X-TITLE=2002 SW 2nd Street:geo:-92.494347,44.021258
END:VEVENT
END:VCALENDAR