BEGIN:VCALENDAR
VERSION:2.0
PRODID:-//Minnesota Freemasons - ECPv6.15.20//NONSGML v1.0//EN
CALSCALE:GREGORIAN
METHOD:PUBLISH
X-WR-CALNAME:Minnesota Freemasons
X-ORIGINAL-URL:https://mnfreemasons.org
X-WR-CALDESC:Events for Minnesota Freemasons
REFRESH-INTERVAL;VALUE=DURATION:PT1H
X-Robots-Tag:noindex
X-PUBLISHED-TTL:PT1H
BEGIN:VTIMEZONE
TZID:America/Chicago
BEGIN:DAYLIGHT
TZOFFSETFROM:-0600
TZOFFSETTO:-0500
TZNAME:CDT
DTSTART:20210314T080000
END:DAYLIGHT
BEGIN:STANDARD
TZOFFSETFROM:-0500
TZOFFSETTO:-0600
TZNAME:CST
DTSTART:20211107T070000
END:STANDARD
BEGIN:DAYLIGHT
TZOFFSETFROM:-0600
TZOFFSETTO:-0500
TZNAME:CDT
DTSTART:20220313T080000
END:DAYLIGHT
BEGIN:STANDARD
TZOFFSETFROM:-0500
TZOFFSETTO:-0600
TZNAME:CST
DTSTART:20221106T070000
END:STANDARD
BEGIN:DAYLIGHT
TZOFFSETFROM:-0600
TZOFFSETTO:-0500
TZNAME:CDT
DTSTART:20230312T080000
END:DAYLIGHT
BEGIN:STANDARD
TZOFFSETFROM:-0500
TZOFFSETTO:-0600
TZNAME:CST
DTSTART:20231105T070000
END:STANDARD
END:VTIMEZONE
BEGIN:VEVENT
DTSTART;TZID=America/Chicago:20220914T190000
DTEND;TZID=America/Chicago:20220914T210000
DTSTAMP:20260422T050617
CREATED:20220428T180721Z
LAST-MODIFIED:20220907T161841Z
UID:10000193-1663182000-1663189200@mnfreemasons.org
SUMMARY:SE Area Fourth School of Instruction
DESCRIPTION:Join us for the Fourth School of Instruction at Winona Lodge which teaches everything not taught in the first three schools. Balloting\, Investigating visiting Brethren\, Receiving a Grand Lodge Officer\, Manual of the Rod\, Calling from Labor to Refreshment and back to Labor\, and anything else that comes up. Dinner will be served at 6:00 PM with a Masters and Wardens meeting and the School will start promptly at 7:00 PM. This is the first event in the Southeast Education Challenge. Get your first of five Challenge Coins!\nPlease click the link to RSVP and sign up for a part.
URL:https://mnfreemasons.org/event/se-area-fourth-school-of-instruction/
LOCATION:Winona Lodge No. 18\, 926 W. 5th Street\, Winona\, Minnesota\, 55987\, United States
CATEGORIES:Education,School of Instruction,Southeast Area
ORGANIZER;CN="Clinton Christensen":MAILTO:clint@atlasremodelers.com
GEO:44.054307;-91.661684
X-APPLE-STRUCTURED-LOCATION;VALUE=URI;X-ADDRESS=Winona Lodge No. 18 926 W. 5th Street Winona Minnesota 55987 United States;X-APPLE-RADIUS=500;X-TITLE=926 W. 5th Street:geo:-91.661684,44.054307
END:VEVENT
BEGIN:VEVENT
DTSTART;TZID=America/Chicago:20220924T100000
DTEND;TZID=America/Chicago:20220924T130000
DTSTAMP:20260422T050617
CREATED:20220418T182924Z
LAST-MODIFIED:20220907T161841Z
UID:10000185-1664013600-1664024400@mnfreemasons.org
SUMMARY:Corinthian Lodge No. 67 Building Rededication
DESCRIPTION:Corinthian Lodge No. 67 in Farmington will have a Grand Lodge rededication of their building to reflect the substantial building repairs and improvements completed in the past year. The ceremony will be held on Saturday September 24th at 10 AM at Corinthian Lodge No. 67 located at 326 3rd Street in Farmington\, MN.
URL:https://mnfreemasons.org/event/corinthian-lodge-no-67-building-rededication/
LOCATION:Corinthian Lodge No. 67\, 326 - 3rd Street\, Farmington\, Minnesota\, 55024\, United States
CATEGORIES:Cornerstone Ceremony,Grand Lodge Events,Lodge Events,Southeast Area
ORGANIZER;CN="Rick Vance DR District 26":MAILTO:rfvance@charter.net
GEO:44.639581;-93.145558
X-APPLE-STRUCTURED-LOCATION;VALUE=URI;X-ADDRESS=Corinthian Lodge No. 67 326 - 3rd Street Farmington Minnesota 55024 United States;X-APPLE-RADIUS=500;X-TITLE=326 - 3rd Street:geo:-93.145558,44.639581
END:VEVENT
END:VCALENDAR