BEGIN:VCALENDAR
VERSION:2.0
PRODID:-//Minnesota Freemasons - ECPv6.15.20//NONSGML v1.0//EN
CALSCALE:GREGORIAN
METHOD:PUBLISH
X-ORIGINAL-URL:https://mnfreemasons.org
X-WR-CALDESC:Events for Minnesota Freemasons
REFRESH-INTERVAL;VALUE=DURATION:PT1H
X-Robots-Tag:noindex
X-PUBLISHED-TTL:PT1H
BEGIN:VTIMEZONE
TZID:America/Chicago
BEGIN:DAYLIGHT
TZOFFSETFROM:-0600
TZOFFSETTO:-0500
TZNAME:CDT
DTSTART:20210314T080000
END:DAYLIGHT
BEGIN:STANDARD
TZOFFSETFROM:-0500
TZOFFSETTO:-0600
TZNAME:CST
DTSTART:20211107T070000
END:STANDARD
BEGIN:DAYLIGHT
TZOFFSETFROM:-0600
TZOFFSETTO:-0500
TZNAME:CDT
DTSTART:20220313T080000
END:DAYLIGHT
BEGIN:STANDARD
TZOFFSETFROM:-0500
TZOFFSETTO:-0600
TZNAME:CST
DTSTART:20221106T070000
END:STANDARD
BEGIN:DAYLIGHT
TZOFFSETFROM:-0600
TZOFFSETTO:-0500
TZNAME:CDT
DTSTART:20230312T080000
END:DAYLIGHT
BEGIN:STANDARD
TZOFFSETFROM:-0500
TZOFFSETTO:-0600
TZNAME:CST
DTSTART:20231105T070000
END:STANDARD
BEGIN:DAYLIGHT
TZOFFSETFROM:-0600
TZOFFSETTO:-0500
TZNAME:CDT
DTSTART:20240310T080000
END:DAYLIGHT
BEGIN:STANDARD
TZOFFSETFROM:-0500
TZOFFSETTO:-0600
TZNAME:CST
DTSTART:20241103T070000
END:STANDARD
END:VTIMEZONE
BEGIN:VEVENT
DTSTART;TZID=America/Chicago:20220614T180000
DTEND;TZID=America/Chicago:20220614T210000
DTSTAMP:20260420T073818
CREATED:20220519T164140Z
LAST-MODIFIED:20220519T164158Z
UID:10000198-1655229600-1655240400@mnfreemasons.org
SUMMARY:MetroEast 3rd School of Instruction
DESCRIPTION:Join us at Forest Lake Lodge #344 that evening for full coverage of the Master Mason Degree as the team prepares for a joint conferral with St. John’s Lodge #1 the following Monday\, 6/20/22 in Forest Lake.
URL:https://mnfreemasons.org/event/metroeast-3rd-school-of-instruction/
LOCATION:Forest Lake Lodge No. 344\, 119 8th Avenue SE\, Forest Lake\, Minnesota\, 55025\, United States
CATEGORIES:Metroeast Area,School of Instruction
ORGANIZER;CN="Hunter Cloutier%2C SW":MAILTO:hrcloutier@gmail.com
GEO:45.271479;-92.982036
X-APPLE-STRUCTURED-LOCATION;VALUE=URI;X-ADDRESS=Forest Lake Lodge No. 344 119 8th Avenue SE Forest Lake Minnesota 55025 United States;X-APPLE-RADIUS=500;X-TITLE=119 8th Avenue SE:geo:-92.982036,45.271479
END:VEVENT
BEGIN:VEVENT
DTSTART;TZID=America/Chicago:20220914T190000
DTEND;TZID=America/Chicago:20220914T210000
DTSTAMP:20260420T073818
CREATED:20220428T180721Z
LAST-MODIFIED:20220907T161841Z
UID:10000193-1663182000-1663189200@mnfreemasons.org
SUMMARY:SE Area Fourth School of Instruction
DESCRIPTION:Join us for the Fourth School of Instruction at Winona Lodge which teaches everything not taught in the first three schools. Balloting\, Investigating visiting Brethren\, Receiving a Grand Lodge Officer\, Manual of the Rod\, Calling from Labor to Refreshment and back to Labor\, and anything else that comes up. Dinner will be served at 6:00 PM with a Masters and Wardens meeting and the School will start promptly at 7:00 PM. This is the first event in the Southeast Education Challenge. Get your first of five Challenge Coins!\nPlease click the link to RSVP and sign up for a part.
URL:https://mnfreemasons.org/event/se-area-fourth-school-of-instruction/
LOCATION:Winona Lodge No. 18\, 926 W. 5th Street\, Winona\, Minnesota\, 55987\, United States
CATEGORIES:Education,School of Instruction,Southeast Area
ORGANIZER;CN="Clinton Christensen":MAILTO:clint@atlasremodelers.com
GEO:44.054307;-91.661684
X-APPLE-STRUCTURED-LOCATION;VALUE=URI;X-ADDRESS=Winona Lodge No. 18 926 W. 5th Street Winona Minnesota 55987 United States;X-APPLE-RADIUS=500;X-TITLE=926 W. 5th Street:geo:-91.661684,44.054307
END:VEVENT
BEGIN:VEVENT
DTSTART;TZID=America/Chicago:20221109T190000
DTEND;TZID=America/Chicago:20221109T210000
DTSTAMP:20260420T073818
CREATED:20220429T170647Z
LAST-MODIFIED:20221017T171519Z
UID:10000195-1668020400-1668027600@mnfreemasons.org
SUMMARY:SE Area Third School of Instruction
DESCRIPTION:Join us for the Third School of Instruction at Mankato Lodge No. 12. We will opening\, going through the second section of the Degree\, and closing on the third degree. Dinner will be served at 6:00 PM with a Masters and Wardens meeting and the School will start promptly at 7:00 PM. This is the third event in the Southeast Education Challenge. Get your third of the five Challenge Coins!\nPlease click the link to RSVP and sign up for a part.
URL:https://mnfreemasons.org/event/se-area-third-school/
LOCATION:Mankato Lodge No. 12\, 309 S. 2nd Street\, Mankato\, Minnesota\, 56001\, United States
CATEGORIES:School of Instruction,Southeast Area
ORGANIZER;CN="Clinton Christensen":MAILTO:clint@atlasremodelers.com
GEO:44.164656;-94.003192
X-APPLE-STRUCTURED-LOCATION;VALUE=URI;X-ADDRESS=Mankato Lodge No. 12 309 S. 2nd Street Mankato Minnesota 56001 United States;X-APPLE-RADIUS=500;X-TITLE=309 S. 2nd Street:geo:-94.003192,44.164656
END:VEVENT
BEGIN:VEVENT
DTSTART;TZID=America/Chicago:20230225T100000
DTEND;TZID=America/Chicago:20230225T150000
DTSTAMP:20260420T073818
CREATED:20230120T165848Z
LAST-MODIFIED:20230308T191101Z
UID:10000267-1677319200-1677337200@mnfreemasons.org
SUMMARY:NE School of Instruction (3rd Degree)
DESCRIPTION:Instruction on the third degree.
URL:https://mnfreemasons.org/event/ne-school-of-instruction-3rd-degree/
LOCATION:Nashwauk Lodge No. 331\, 301 Central Avenue\, Nashwauk\, Minnesota\, 55769\, United States
CATEGORIES:Northeast Area,School of Instruction
GEO:47.380505;-93.165764
X-APPLE-STRUCTURED-LOCATION;VALUE=URI;X-ADDRESS=Nashwauk Lodge No. 331 301 Central Avenue Nashwauk Minnesota 55769 United States;X-APPLE-RADIUS=500;X-TITLE=301 Central Avenue:geo:-93.165764,47.380505
END:VEVENT
BEGIN:VEVENT
DTSTART;TZID=America/Chicago:20230913T190000
DTEND;TZID=America/Chicago:20230913T200000
DTSTAMP:20260420T073818
CREATED:20230721T154054Z
LAST-MODIFIED:20230912T205535Z
UID:10000351-1694631600-1694635200@mnfreemasons.org
SUMMARY:Fourth School of Instruction - Western Star Lodge No. 26 at Western Star Lodge No. 26 in Albert Lea starting
DESCRIPTION:
URL:https://mnfreemasons.org/event/fourth-school-of-instruction/
LOCATION:Western Star Lodge No. 26 in Albert Lea
CATEGORIES:Lodge Events,School of Instruction,Southeast Area
END:VEVENT
BEGIN:VEVENT
DTSTART;TZID=America/Chicago:20231108T190000
DTEND;TZID=America/Chicago:20231108T200000
DTSTAMP:20260420T073818
CREATED:20230721T154552Z
LAST-MODIFIED:20231107T205546Z
UID:10000354-1699470000-1699473600@mnfreemasons.org
SUMMARY:Third School of Instruction - Carnelian Lodge No. 40 at Carnelian Lodge No. 40 in Lake City starting
DESCRIPTION:
URL:https://mnfreemasons.org/event/third-school-of-instruction-carnelian-lodge-no-40/
LOCATION:Carnelian Lodge No. 40 in Lake City
CATEGORIES:Lodge Events,School of Instruction,Southeast Area
END:VEVENT
END:VCALENDAR