BEGIN:VCALENDAR
VERSION:2.0
PRODID:-//Minnesota Freemasons - ECPv6.15.20//NONSGML v1.0//EN
CALSCALE:GREGORIAN
METHOD:PUBLISH
X-ORIGINAL-URL:https://mnfreemasons.org
X-WR-CALDESC:Events for Minnesota Freemasons
REFRESH-INTERVAL;VALUE=DURATION:PT1H
X-Robots-Tag:noindex
X-PUBLISHED-TTL:PT1H
BEGIN:VTIMEZONE
TZID:America/Chicago
BEGIN:DAYLIGHT
TZOFFSETFROM:-0600
TZOFFSETTO:-0500
TZNAME:CDT
DTSTART:20210314T080000
END:DAYLIGHT
BEGIN:STANDARD
TZOFFSETFROM:-0500
TZOFFSETTO:-0600
TZNAME:CST
DTSTART:20211107T070000
END:STANDARD
BEGIN:DAYLIGHT
TZOFFSETFROM:-0600
TZOFFSETTO:-0500
TZNAME:CDT
DTSTART:20220313T080000
END:DAYLIGHT
BEGIN:STANDARD
TZOFFSETFROM:-0500
TZOFFSETTO:-0600
TZNAME:CST
DTSTART:20221106T070000
END:STANDARD
BEGIN:DAYLIGHT
TZOFFSETFROM:-0600
TZOFFSETTO:-0500
TZNAME:CDT
DTSTART:20230312T080000
END:DAYLIGHT
BEGIN:STANDARD
TZOFFSETFROM:-0500
TZOFFSETTO:-0600
TZNAME:CST
DTSTART:20231105T070000
END:STANDARD
BEGIN:DAYLIGHT
TZOFFSETFROM:-0600
TZOFFSETTO:-0500
TZNAME:CDT
DTSTART:20240310T080000
END:DAYLIGHT
BEGIN:STANDARD
TZOFFSETFROM:-0500
TZOFFSETTO:-0600
TZNAME:CST
DTSTART:20241103T070000
END:STANDARD
END:VTIMEZONE
BEGIN:VEVENT
DTSTART;TZID=America/Chicago:20220925T080000
DTEND;TZID=America/Chicago:20220925T130000
DTSTAMP:20260424T124034
CREATED:20220414T165244Z
LAST-MODIFIED:20220907T161841Z
UID:10000177-1664092800-1664110800@mnfreemasons.org
SUMMARY:South Minneapolis Pancake Breakfast
DESCRIPTION:Classic Breakfast $10 donation all you can eat!\n-Buttermilk Pancakes\n-Sausage Links\n-Scrambled Eggs \nOR…. \nChef’s Signature Brunch $15 donation 1-serving!\n-Buttermilk Pancakes w/ Blueberry Compote\n-Millionaires Bacon\n-Creamy Hashbrowns\n-Mediterranean Vegetable Frittata\n-Mixed fruit \nNet proceeds to benefit Hiawatha Chapter of DeMolay and Face It Foundation.
URL:https://mnfreemasons.org/event/south-minneapolis-pancake-breakfast/
LOCATION:Minnehaha Lodge No. 165\, 5149 Bloomington Avenue South\, Minneapolis\, Minnesota\, 55417\, United States
CATEGORIES:Fundraiser,Lodge Events,Metrowest Area,pancake breakfast
ORGANIZER;CN="Cataract Lodge No. 2":MAILTO:Douglas.Campbell@me.com
GEO:44.909782;-93.25244
X-APPLE-STRUCTURED-LOCATION;VALUE=URI;X-ADDRESS=Minnehaha Lodge No. 165 5149 Bloomington Avenue South Minneapolis Minnesota 55417 United States;X-APPLE-RADIUS=500;X-TITLE=5149 Bloomington Avenue South:geo:-93.25244,44.909782
END:VEVENT
BEGIN:VEVENT
DTSTART;TZID=America/Chicago:20230319T080000
DTEND;TZID=America/Chicago:20230319T120000
DTSTAMP:20260424T124034
CREATED:20230227T181339Z
LAST-MODIFIED:20230308T191100Z
UID:10000309-1679212800-1679227200@mnfreemasons.org
SUMMARY:Newport Lodge Pancake Breakfast and Queen Esther Chapter OES Bake Sale
DESCRIPTION:Spring is here\, or at least on the way\, and it is time for the Newport Lodge #118 Spring Pancake Breakfast and Queen Esther Chapter OES Bake Sale. The event will happen Sunday March 19\, 2023. The serving time is between 8 AM and 12 PM.\nTicket prices are as follows:\nAdult $9\nChildren (6-12) $6\nUnder Six (0-5) Free\nTickets available the day of the event \nStop by for a good breakfast of Pancakes\, made to order eggs\, sausage or bacon\, coffee and juice. Don’t forget the wide variety of baked goods for sale too!
URL:https://mnfreemasons.org/event/newport-lodge-pancake-breakfast-and-queen-esther-chapter-oes-bake-sale/
LOCATION:Newport Lodge No. 118\, 644 West Broadway\, St. Paul Park\, Minnesota\, 55071\, United States
CATEGORIES:pancake breakfast
GEO:44.847628;-92.991678
X-APPLE-STRUCTURED-LOCATION;VALUE=URI;X-ADDRESS=Newport Lodge No. 118 644 West Broadway St. Paul Park Minnesota 55071 United States;X-APPLE-RADIUS=500;X-TITLE=644 West Broadway:geo:-92.991678,44.847628
END:VEVENT
BEGIN:VEVENT
DTSTART;TZID=America/Chicago:20230402T070000
DTEND;TZID=America/Chicago:20230402T130000
DTSTAMP:20260424T124034
CREATED:20230328T145239Z
LAST-MODIFIED:20230508T193822Z
UID:10000325-1680418800-1680440400@mnfreemasons.org
SUMMARY:Annual Palm Sunday Breakfast
DESCRIPTION:Traditional Square Biscuit Breakfast at Fraternal Lodge #92 in Princeton\, Sunday 4/2/23 from 7AM to 1PM\, 101 N 6th Ave.
URL:https://mnfreemasons.org/event/annual-palm-sunday-breakfast/
LOCATION:Fraternal Lodge No. 92\, 101 North 6th Avenue\, Princeton\, Minnesota\, 55371\, United States
CATEGORIES:pancake breakfast
ORGANIZER;CN="Fraternal Lodge":MAILTO:rogerputnam@q.com
GEO:45.570004;-93.581915
X-APPLE-STRUCTURED-LOCATION;VALUE=URI;X-ADDRESS=Fraternal Lodge No. 92 101 North 6th Avenue Princeton Minnesota 55371 United States;X-APPLE-RADIUS=500;X-TITLE=101 North 6th Avenue:geo:-93.581915,45.570004
END:VEVENT
BEGIN:VEVENT
DTSTART;TZID=America/Chicago:20230507T080000
DTEND;TZID=America/Chicago:20230507T130000
DTSTAMP:20260424T124034
CREATED:20230206T184046Z
LAST-MODIFIED:20230508T193821Z
UID:10000271-1683446400-1683464400@mnfreemasons.org
SUMMARY:South Minneapolis Pancake Breakfast Fundraiser for Field Elementary School
DESCRIPTION:Field Elementary School in South Minneapolis is raising funds for a new playground system\, and Minnehaha\, Cataract\, and Braden Lodges have heeded the call for assistance! Join us in raising funds for this great and good work\, where net proceeds will benefit Field Elementary. The menu will consist of Tres Leches Buttermilk Pancakes topped with vanilla creme\, caramel sauce\, strawberry marscapone\, fresh strawberries\, and a drizzle of sweetened condensed milk! Sausage\, scrambled eggs\, and cheesey hashbrowns round out the plate! Coffee\, milk\, and OJ too! $15.00 donation.
URL:https://mnfreemasons.org/event/south-minneapolis-pancake-breakfast-fundraiser-for-field-elementary-school/
LOCATION:Minnehaha Lodge No. 165\, 5149 Bloomington Avenue South\, Minneapolis\, Minnesota\, 55417\, United States
CATEGORIES:Lodge Events,pancake breakfast
GEO:44.909782;-93.25244
X-APPLE-STRUCTURED-LOCATION;VALUE=URI;X-ADDRESS=Minnehaha Lodge No. 165 5149 Bloomington Avenue South Minneapolis Minnesota 55417 United States;X-APPLE-RADIUS=500;X-TITLE=5149 Bloomington Avenue South:geo:-93.25244,44.909782
END:VEVENT
END:VCALENDAR