BEGIN:VCALENDAR
VERSION:2.0
PRODID:-//Minnesota Freemasons - ECPv6.15.20//NONSGML v1.0//EN
CALSCALE:GREGORIAN
METHOD:PUBLISH
X-WR-CALNAME:Minnesota Freemasons
X-ORIGINAL-URL:https://mnfreemasons.org
X-WR-CALDESC:Events for Minnesota Freemasons
REFRESH-INTERVAL;VALUE=DURATION:PT1H
X-Robots-Tag:noindex
X-PUBLISHED-TTL:PT1H
BEGIN:VTIMEZONE
TZID:America/Chicago
BEGIN:DAYLIGHT
TZOFFSETFROM:-0600
TZOFFSETTO:-0500
TZNAME:CDT
DTSTART:20210314T080000
END:DAYLIGHT
BEGIN:STANDARD
TZOFFSETFROM:-0500
TZOFFSETTO:-0600
TZNAME:CST
DTSTART:20211107T070000
END:STANDARD
BEGIN:DAYLIGHT
TZOFFSETFROM:-0600
TZOFFSETTO:-0500
TZNAME:CDT
DTSTART:20220313T080000
END:DAYLIGHT
BEGIN:STANDARD
TZOFFSETFROM:-0500
TZOFFSETTO:-0600
TZNAME:CST
DTSTART:20221106T070000
END:STANDARD
BEGIN:DAYLIGHT
TZOFFSETFROM:-0600
TZOFFSETTO:-0500
TZNAME:CDT
DTSTART:20230312T080000
END:DAYLIGHT
BEGIN:STANDARD
TZOFFSETFROM:-0500
TZOFFSETTO:-0600
TZNAME:CST
DTSTART:20231105T070000
END:STANDARD
END:VTIMEZONE
BEGIN:VEVENT
DTSTART;TZID=America/Chicago:20221203T080000
DTEND;TZID=America/Chicago:20221203T150000
DTSTAMP:20260420T071759
CREATED:20220418T161659Z
LAST-MODIFIED:20220907T161840Z
UID:10000178-1670054400-1670079600@mnfreemasons.org
SUMMARY:Metroeast Area Conference
DESCRIPTION:This event is open to all Minnesota Masons and will focus on current events in Masonry.\nGrand Master Tony Krall and Grand Lodge Officers will be attending. \n8:00 – 9:00     Registration\n9:00 – 12:00   Meetings and Presentations\n12:00 – 2:30   Lunch and Social Time with Grand Lodge Officers
URL:https://mnfreemasons.org/event/metroeast-area-conference/
LOCATION:Forest Lake Lodge No. 344\, 119 8th Avenue SE\, Forest Lake\, Minnesota\, 55025\, United States
CATEGORIES:Metroeast Area
ORGANIZER;CN="Christopher Wendover%2C Metroeast Area Deputy":MAILTO:metroeast@grandlodgemn.org
GEO:45.271479;-92.982036
X-APPLE-STRUCTURED-LOCATION;VALUE=URI;X-ADDRESS=Forest Lake Lodge No. 344 119 8th Avenue SE Forest Lake Minnesota 55025 United States;X-APPLE-RADIUS=500;X-TITLE=119 8th Avenue SE:geo:-92.982036,45.271479
END:VEVENT
BEGIN:VEVENT
DTSTART;TZID=America/Chicago:20221203T090000
DTEND;TZID=America/Chicago:20221203T150000
DTSTAMP:20260420T071759
CREATED:20221017T171306Z
LAST-MODIFIED:20221017T174234Z
UID:10000245-1670058000-1670079600@mnfreemasons.org
SUMMARY:MM Degree - St. Paul
DESCRIPTION:
URL:https://mnfreemasons.org/event/mm-degree-3/
LOCATION:Ancient Landmark Lodge No. 5\, 200 E Plato Blvd\, St. Paul\, Minnesota\, 55107\, United States
CATEGORIES:Degree,Metroeast Area
ORGANIZER;CN="Ancient Landmark Lodge No. 5":MAILTO:jeremy.nienow@gmail.com
GEO:44.939175;-93.079094
X-APPLE-STRUCTURED-LOCATION;VALUE=URI;X-ADDRESS=Ancient Landmark Lodge No. 5 200 E Plato Blvd St. Paul Minnesota 55107 United States;X-APPLE-RADIUS=500;X-TITLE=200 E Plato Blvd:geo:-93.079094,44.939175
END:VEVENT
BEGIN:VEVENT
DTSTART;TZID=America/Chicago:20221210T180000
DTEND;TZID=America/Chicago:20221210T210000
DTSTAMP:20260420T071759
CREATED:20221017T171306Z
LAST-MODIFIED:20221017T173607Z
UID:10000247-1670695200-1670706000@mnfreemasons.org
SUMMARY:Farewell to the Master Auction - Princeton
DESCRIPTION:
URL:https://mnfreemasons.org/event/farewell-to-the-master-auction/
LOCATION:Fraternal Lodge No. 92\, 101 North 6th Avenue\, Princeton\, Minnesota\, 55371\, United States
CATEGORIES:Lodge Events,Metroeast Area
GEO:45.570004;-93.581915
X-APPLE-STRUCTURED-LOCATION;VALUE=URI;X-ADDRESS=Fraternal Lodge No. 92 101 North 6th Avenue Princeton Minnesota 55371 United States;X-APPLE-RADIUS=500;X-TITLE=101 North 6th Avenue:geo:-93.581915,45.570004
END:VEVENT
BEGIN:VEVENT
DTSTART;TZID=America/Chicago:20221219T190000
DTEND;TZID=America/Chicago:20221219T213000
DTSTAMP:20260420T071759
CREATED:20221017T171333Z
LAST-MODIFIED:20221017T174002Z
UID:10000250-1671476400-1671485400@mnfreemasons.org
SUMMARY:FC Degree - Stillwater
DESCRIPTION:
URL:https://mnfreemasons.org/event/fc-degree-6/
LOCATION:St. Johns Lodge No. 1\, 113 S. Main Street (third floor)\, Stillwater\, Minnesota\, 55082\, United States
CATEGORIES:Degree,Metroeast Area
GEO:45.056255;-92.80554
X-APPLE-STRUCTURED-LOCATION;VALUE=URI;X-ADDRESS=St. Johns Lodge No. 1 113 S. Main Street (third floor) Stillwater Minnesota 55082 United States;X-APPLE-RADIUS=500;X-TITLE=113 S. Main Street (third floor):geo:-92.80554,45.056255
END:VEVENT
END:VCALENDAR