BEGIN:VCALENDAR
VERSION:2.0
PRODID:-//Minnesota Freemasons - ECPv6.15.20//NONSGML v1.0//EN
CALSCALE:GREGORIAN
METHOD:PUBLISH
X-ORIGINAL-URL:https://mnfreemasons.org
X-WR-CALDESC:Events for Minnesota Freemasons
REFRESH-INTERVAL;VALUE=DURATION:PT1H
X-Robots-Tag:noindex
X-PUBLISHED-TTL:PT1H
BEGIN:VTIMEZONE
TZID:America/Chicago
BEGIN:DAYLIGHT
TZOFFSETFROM:-0600
TZOFFSETTO:-0500
TZNAME:CDT
DTSTART:20210314T080000
END:DAYLIGHT
BEGIN:STANDARD
TZOFFSETFROM:-0500
TZOFFSETTO:-0600
TZNAME:CST
DTSTART:20211107T070000
END:STANDARD
BEGIN:DAYLIGHT
TZOFFSETFROM:-0600
TZOFFSETTO:-0500
TZNAME:CDT
DTSTART:20220313T080000
END:DAYLIGHT
BEGIN:STANDARD
TZOFFSETFROM:-0500
TZOFFSETTO:-0600
TZNAME:CST
DTSTART:20221106T070000
END:STANDARD
BEGIN:DAYLIGHT
TZOFFSETFROM:-0600
TZOFFSETTO:-0500
TZNAME:CDT
DTSTART:20230312T080000
END:DAYLIGHT
BEGIN:STANDARD
TZOFFSETFROM:-0500
TZOFFSETTO:-0600
TZNAME:CST
DTSTART:20231105T070000
END:STANDARD
END:VTIMEZONE
BEGIN:VEVENT
DTSTART;TZID=America/Chicago:20221107T190000
DTEND;TZID=America/Chicago:20221107T213000
DTSTAMP:20260422T050753
CREATED:20221017T171250Z
LAST-MODIFIED:20221017T174435Z
UID:10000235-1667847600-1667856600@mnfreemasons.org
SUMMARY:EA Degree - Stillwater
DESCRIPTION:
URL:https://mnfreemasons.org/event/ea-degree-2/
LOCATION:St. Johns Lodge No. 1\, 113 S. Main Street (third floor)\, Stillwater\, Minnesota\, 55082\, United States
CATEGORIES:Degree,Metroeast Area
GEO:45.056255;-92.80554
X-APPLE-STRUCTURED-LOCATION;VALUE=URI;X-ADDRESS=St. Johns Lodge No. 1 113 S. Main Street (third floor) Stillwater Minnesota 55082 United States;X-APPLE-RADIUS=500;X-TITLE=113 S. Main Street (third floor):geo:-92.80554,45.056255
END:VEVENT
BEGIN:VEVENT
DTSTART;TZID=America/Chicago:20221117T180000
DTEND;TZID=America/Chicago:20221117T223000
DTSTAMP:20260422T050753
CREATED:20221017T171252Z
LAST-MODIFIED:20221017T174359Z
UID:10000240-1668708000-1668724200@mnfreemasons.org
SUMMARY:MM Degree - Forest Lake
DESCRIPTION:
URL:https://mnfreemasons.org/event/mm-degree/
LOCATION:Forest Lake Lodge No. 344\, 119 8th Avenue SE\, Forest Lake\, Minnesota\, 55025\, United States
CATEGORIES:Degree,Metroeast Area
GEO:45.271479;-92.982036
X-APPLE-STRUCTURED-LOCATION;VALUE=URI;X-ADDRESS=Forest Lake Lodge No. 344 119 8th Avenue SE Forest Lake Minnesota 55025 United States;X-APPLE-RADIUS=500;X-TITLE=119 8th Avenue SE:geo:-92.982036,45.271479
END:VEVENT
BEGIN:VEVENT
DTSTART;TZID=America/Chicago:20221121T180000
DTEND;TZID=America/Chicago:20221121T210000
DTSTAMP:20260422T050753
CREATED:20221007T210342Z
LAST-MODIFIED:20221017T171519Z
UID:10000228-1669053600-1669064400@mnfreemasons.org
SUMMARY:MetroEast 4th School of Instruction
DESCRIPTION:Join Custodian Pete Van Osdol and Board Chair MW Brian Beermann as we cover all aspects of Lodge operations and procedures that are not part of Degree rituals\, such as opening and closing\, balloting\, reception of visitors\, etc. in this important participatory workshop. Dinner/social time at 6PM precedes the 7PM School.
URL:https://mnfreemasons.org/event/metroeast-4th-school-of-instruction/
LOCATION:Helios Lodge No. 273\, 343 Second Avenue SW\, Cambridge\, Minnesota\, 55008\, United States
CATEGORIES:Metroeast Area
ORGANIZER;CN="Bill Vice%2C Master of Helios Lodge":MAILTO:bravosdad@gmail.com
GEO:45.571598;-93.22699
X-APPLE-STRUCTURED-LOCATION;VALUE=URI;X-ADDRESS=Helios Lodge No. 273 343 Second Avenue SW Cambridge Minnesota 55008 United States;X-APPLE-RADIUS=500;X-TITLE=343 Second Avenue SW:geo:-93.22699,45.571598
END:VEVENT
BEGIN:VEVENT
DTSTART;TZID=America/Chicago:20221121T190000
DTEND;TZID=America/Chicago:20221121T213000
DTSTAMP:20260422T050753
CREATED:20221017T171252Z
LAST-MODIFIED:20221017T173439Z
UID:10000241-1669057200-1669066200@mnfreemasons.org
SUMMARY:Table Lodge - South St. Paul
DESCRIPTION:
URL:https://mnfreemasons.org/event/table-lodge/
LOCATION:Mizpah Lodge No. 191\, 445 2nd Avenue South (Croatian Hall)\, South St. Paul\, Minnesota\, 55075\, United States
CATEGORIES:Metroeast Area,Table Lodge
GEO:44.88447;-93.03607
X-APPLE-STRUCTURED-LOCATION;VALUE=URI;X-ADDRESS=Mizpah Lodge No. 191 445 2nd Avenue South (Croatian Hall) South St. Paul Minnesota 55075 United States;X-APPLE-RADIUS=500;X-TITLE=445 2nd Avenue South (Croatian Hall):geo:-93.03607,44.88447
END:VEVENT
BEGIN:VEVENT
DTSTART;TZID=America/Chicago:20221127T100000
DTEND;TZID=America/Chicago:20221127T140000
DTSTAMP:20260422T050753
CREATED:20221017T171252Z
LAST-MODIFIED:20221017T173412Z
UID:10000242-1669543200-1669557600@mnfreemasons.org
SUMMARY:Santa Photo Shoot - Forest Lake
DESCRIPTION:
URL:https://mnfreemasons.org/event/santa-photo-shoot/
LOCATION:Forest Lake Lodge No. 344\, 119 8th Avenue SE\, Forest Lake\, Minnesota\, 55025\, United States
CATEGORIES:Lodge Events,Metroeast Area
GEO:45.271479;-92.982036
X-APPLE-STRUCTURED-LOCATION;VALUE=URI;X-ADDRESS=Forest Lake Lodge No. 344 119 8th Avenue SE Forest Lake Minnesota 55025 United States;X-APPLE-RADIUS=500;X-TITLE=119 8th Avenue SE:geo:-92.982036,45.271479
END:VEVENT
END:VCALENDAR