BEGIN:VCALENDAR
VERSION:2.0
PRODID:-//Minnesota Freemasons - ECPv6.15.20//NONSGML v1.0//EN
CALSCALE:GREGORIAN
METHOD:PUBLISH
X-ORIGINAL-URL:https://mnfreemasons.org
X-WR-CALDESC:Events for Minnesota Freemasons
REFRESH-INTERVAL;VALUE=DURATION:PT1H
X-Robots-Tag:noindex
X-PUBLISHED-TTL:PT1H
BEGIN:VTIMEZONE
TZID:America/Chicago
BEGIN:DAYLIGHT
TZOFFSETFROM:-0600
TZOFFSETTO:-0500
TZNAME:CDT
DTSTART:20210314T080000
END:DAYLIGHT
BEGIN:STANDARD
TZOFFSETFROM:-0500
TZOFFSETTO:-0600
TZNAME:CST
DTSTART:20211107T070000
END:STANDARD
BEGIN:DAYLIGHT
TZOFFSETFROM:-0600
TZOFFSETTO:-0500
TZNAME:CDT
DTSTART:20220313T080000
END:DAYLIGHT
BEGIN:STANDARD
TZOFFSETFROM:-0500
TZOFFSETTO:-0600
TZNAME:CST
DTSTART:20221106T070000
END:STANDARD
BEGIN:DAYLIGHT
TZOFFSETFROM:-0600
TZOFFSETTO:-0500
TZNAME:CDT
DTSTART:20230312T080000
END:DAYLIGHT
BEGIN:STANDARD
TZOFFSETFROM:-0500
TZOFFSETTO:-0600
TZNAME:CST
DTSTART:20231105T070000
END:STANDARD
END:VTIMEZONE
BEGIN:VEVENT
DTSTART;TZID=America/Chicago:20221011T180000
DTEND;TZID=America/Chicago:20221011T210000
DTSTAMP:20260424T034947
CREATED:20220923T144739Z
LAST-MODIFIED:20231114T202222Z
UID:10000224-1665511200-1665522000@mnfreemasons.org
SUMMARY:Helios #273 1st Degree
DESCRIPTION:Join us in Cambridge for this Entered Apprentice Degree conferral! Refreshments 6PM\, Degree at 7PM.
URL:https://mnfreemasons.org/event/helios-273-1st-degree/
LOCATION:Helios Lodge No. 273\, 343 Second Avenue SW\, Cambridge\, Minnesota\, 55008\, United States
CATEGORIES:Degree,Metroeast Area
ORGANIZER;CN="Helios Lodge #273":MAILTO:danderahm@gmail.com
GEO:45.571598;-93.22699
X-APPLE-STRUCTURED-LOCATION;VALUE=URI;X-ADDRESS=Helios Lodge No. 273 343 Second Avenue SW Cambridge Minnesota 55008 United States;X-APPLE-RADIUS=500;X-TITLE=343 Second Avenue SW:geo:-93.22699,45.571598
END:VEVENT
BEGIN:VEVENT
DTSTART;TZID=America/Chicago:20221018T180000
DTEND;TZID=America/Chicago:20221018T210000
DTSTAMP:20260424T034947
CREATED:20221004T155517Z
LAST-MODIFIED:20221017T171520Z
UID:10000226-1666116000-1666126800@mnfreemasons.org
SUMMARY:MetroEast 1st School of Instruction
DESCRIPTION:Join Custodian Pete Van Osdol\, Monitor/DR Jason LaVoi and others as we cover all aspects of the EA Degree in this instructional/participatory workshop. Dinner at 6PM followed by the School at 7PM.
URL:https://mnfreemasons.org/event/metroeast-1st-school-of-instruction/
LOCATION:Accacia Lodge #51\, 11094 70th St. S\, Cottage Grove\, MN\, 55016
CATEGORIES:Metroeast Area
ORGANIZER;CN="Christopher Wendover%2C Metroeast Area Deputy":MAILTO:metroeast@grandlodgemn.org
END:VEVENT
BEGIN:VEVENT
DTSTART;TZID=America/Chicago:20221020T190000
DTEND;TZID=America/Chicago:20221020T213000
DTSTAMP:20260424T034947
CREATED:20221017T171246Z
LAST-MODIFIED:20221017T174521Z
UID:10000229-1666292400-1666301400@mnfreemasons.org
SUMMARY:FC Degree - Forest Lake
DESCRIPTION:
URL:https://mnfreemasons.org/event/fc-degree/
LOCATION:Forest Lake Lodge No. 344\, 119 8th Avenue SE\, Forest Lake\, Minnesota\, 55025\, United States
CATEGORIES:Degree,Metroeast Area
GEO:45.271479;-92.982036
X-APPLE-STRUCTURED-LOCATION;VALUE=URI;X-ADDRESS=Forest Lake Lodge No. 344 119 8th Avenue SE Forest Lake Minnesota 55025 United States;X-APPLE-RADIUS=500;X-TITLE=119 8th Avenue SE:geo:-92.982036,45.271479
END:VEVENT
BEGIN:VEVENT
DTSTART;TZID=America/Chicago:20221023T180000
DTEND;TZID=America/Chicago:20221023T200000
DTSTAMP:20260424T034947
CREATED:20221017T171246Z
LAST-MODIFIED:20221017T174506Z
UID:10000230-1666548000-1666555200@mnfreemasons.org
SUMMARY:Hiram Award - St. Paul
DESCRIPTION:
URL:https://mnfreemasons.org/event/hiram-award/
LOCATION:Ancient Landmark Lodge No. 5\, 200 E Plato Blvd\, St. Paul\, Minnesota\, 55107\, United States
CATEGORIES:Awards Dinner,Metroeast Area
ORGANIZER;CN="Ancient Landmark Lodge No. 5":MAILTO:jeremy.nienow@gmail.com
GEO:44.939175;-93.079094
X-APPLE-STRUCTURED-LOCATION;VALUE=URI;X-ADDRESS=Ancient Landmark Lodge No. 5 200 E Plato Blvd St. Paul Minnesota 55107 United States;X-APPLE-RADIUS=500;X-TITLE=200 E Plato Blvd:geo:-93.079094,44.939175
END:VEVENT
BEGIN:VEVENT
DTSTART;TZID=America/Chicago:20221024T183000
DTEND;TZID=America/Chicago:20221024T200000
DTSTAMP:20260424T034947
CREATED:20221004T155519Z
LAST-MODIFIED:20221017T171520Z
UID:10000227-1666636200-1666641600@mnfreemasons.org
SUMMARY:MetroEast Quarterly Meeting
DESCRIPTION:Join us for a review of the state of affairs in our region as well as a presentation on the MN Masonic Code “What every Mason should know” conducted by AD/DR Coordinator WB Don Nolley.
URL:https://mnfreemasons.org/event/metroeast-quarterly-meeting/
LOCATION:Jasper Lodge No. 164\, P. O. Box 454 - Fourth Street\, Rush City\, Minnesota\, 55069\, United States
CATEGORIES:Metroeast Area
ORGANIZER;CN="Christopher Wendover%2C Metroeast Area Deputy":MAILTO:metroeast@grandlodgemn.org
GEO:45.683938;-92.96557
X-APPLE-STRUCTURED-LOCATION;VALUE=URI;X-ADDRESS=Jasper Lodge No. 164 P. O. Box 454 - Fourth Street Rush City Minnesota 55069 United States;X-APPLE-RADIUS=500;X-TITLE=P. O. Box 454 - Fourth Street:geo:-92.96557,45.683938
END:VEVENT
BEGIN:VEVENT
DTSTART;TZID=America/Chicago:20221027T190000
DTEND;TZID=America/Chicago:20221027T213000
DTSTAMP:20260424T034947
CREATED:20221017T171247Z
LAST-MODIFIED:20221017T174454Z
UID:10000233-1666897200-1666906200@mnfreemasons.org
SUMMARY:FC Degree - St. Paul
DESCRIPTION:
URL:https://mnfreemasons.org/event/fc-degree-3/
LOCATION:Ancient Landmark Lodge No. 5\, 200 E Plato Blvd\, St. Paul\, Minnesota\, 55107\, United States
CATEGORIES:Degree,Metroeast Area
ORGANIZER;CN="Ancient Landmark Lodge No. 5":MAILTO:jeremy.nienow@gmail.com
GEO:44.939175;-93.079094
X-APPLE-STRUCTURED-LOCATION;VALUE=URI;X-ADDRESS=Ancient Landmark Lodge No. 5 200 E Plato Blvd St. Paul Minnesota 55107 United States;X-APPLE-RADIUS=500;X-TITLE=200 E Plato Blvd:geo:-93.079094,44.939175
END:VEVENT
END:VCALENDAR