BEGIN:VCALENDAR
VERSION:2.0
PRODID:-//Minnesota Freemasons - ECPv6.15.20//NONSGML v1.0//EN
CALSCALE:GREGORIAN
METHOD:PUBLISH
X-WR-CALNAME:Minnesota Freemasons
X-ORIGINAL-URL:https://mnfreemasons.org
X-WR-CALDESC:Events for Minnesota Freemasons
REFRESH-INTERVAL;VALUE=DURATION:PT1H
X-Robots-Tag:noindex
X-PUBLISHED-TTL:PT1H
BEGIN:VTIMEZONE
TZID:America/Chicago
BEGIN:DAYLIGHT
TZOFFSETFROM:-0600
TZOFFSETTO:-0500
TZNAME:CDT
DTSTART:20220313T080000
END:DAYLIGHT
BEGIN:STANDARD
TZOFFSETFROM:-0500
TZOFFSETTO:-0600
TZNAME:CST
DTSTART:20221106T070000
END:STANDARD
BEGIN:DAYLIGHT
TZOFFSETFROM:-0600
TZOFFSETTO:-0500
TZNAME:CDT
DTSTART:20230312T080000
END:DAYLIGHT
BEGIN:STANDARD
TZOFFSETFROM:-0500
TZOFFSETTO:-0600
TZNAME:CST
DTSTART:20231105T070000
END:STANDARD
BEGIN:DAYLIGHT
TZOFFSETFROM:-0600
TZOFFSETTO:-0500
TZNAME:CDT
DTSTART:20240310T080000
END:DAYLIGHT
BEGIN:STANDARD
TZOFFSETFROM:-0500
TZOFFSETTO:-0600
TZNAME:CST
DTSTART:20241103T070000
END:STANDARD
BEGIN:DAYLIGHT
TZOFFSETFROM:-0600
TZOFFSETTO:-0500
TZNAME:CDT
DTSTART:20250309T080000
END:DAYLIGHT
BEGIN:STANDARD
TZOFFSETFROM:-0500
TZOFFSETTO:-0600
TZNAME:CST
DTSTART:20251102T070000
END:STANDARD
BEGIN:DAYLIGHT
TZOFFSETFROM:-0600
TZOFFSETTO:-0500
TZNAME:CDT
DTSTART:20260308T080000
END:DAYLIGHT
BEGIN:STANDARD
TZOFFSETFROM:-0500
TZOFFSETTO:-0600
TZNAME:CST
DTSTART:20261101T070000
END:STANDARD
BEGIN:DAYLIGHT
TZOFFSETFROM:-0600
TZOFFSETTO:-0500
TZNAME:CDT
DTSTART:20270314T080000
END:DAYLIGHT
BEGIN:STANDARD
TZOFFSETFROM:-0500
TZOFFSETTO:-0600
TZNAME:CST
DTSTART:20271107T070000
END:STANDARD
END:VTIMEZONE
BEGIN:VEVENT
DTSTART;TZID=America/Chicago:20231007T080000
DTEND;TZID=America/Chicago:20231007T090000
DTSTAMP:20260422T063743
CREATED:20230721T154158Z
LAST-MODIFIED:20230807T202539Z
UID:10000352-1696665600-1696669200@mnfreemasons.org
SUMMARY:Southeast Area Conference - Southeast Masonic Association at The Reading Center in Rochester starting
DESCRIPTION:
URL:https://mnfreemasons.org/event/southeast-area-conference-southeast-masonic-association-at-the-reading-center-in-rochester-starting/
LOCATION:The Reading Center in Rochester
CATEGORIES:Grand Lodge Events,Lodge Events,Southeast Area
END:VEVENT
BEGIN:VEVENT
DTSTART;TZID=America/Chicago:20240120T080000
DTEND;TZID=America/Chicago:20240120T160000
DTSTAMP:20260422T063743
CREATED:20230912T143544Z
LAST-MODIFIED:20230915T155839Z
UID:10000372-1705737600-1705766400@mnfreemasons.org
SUMMARY:2024 One-Day-to-Masonry
DESCRIPTION:The 2024 One-Day-to-Masonry is scheduled to be held on January 20\, 2024\, at the Minneapolis Scottish Rite. \nAs with past One-Day-to-Masonry events\, this one will include a continental breakfast and a hearty lunch. All three degrees will be portrayed in full form. Brothers attending on the sidelines will enjoy the degree work every bit as much as the candidates will. \nThe total cost for candidates (not including lodge dues) is $250. This fee includes all degree fees and assessments\, white leather apron\, ritual cipher\, Minnesota Masonic Manual\, meals for the candidate\, and other items. \nAll Master Masons are invited and encouraged to attend. If a Brother just wants to stop in to witness some of the degree work\, no reservation is required; but if the Brother plans on staying for lunch\, a ticket is required. Lunch tickets are $20 and advanced registration is required. The only tickets available for purchase the day of the event will be last minute cancellations\, so please purchase your lunch tickets in advance. \nTHE DEADLINE FOR CANDIDATE REGISTRATIONS AND PURCHASING MEAL TICKETS IS WEDNESDAY\, JANUARY 10TH. \nFirst-line signers are asked to have the candidate complete a regular petition for the degrees. That petition must be sent to the local Lodge along with the required fee and a request to attend this One-Day-to-Masonry event. Time will soon be drawing short\, so do not delay—assist your candidate in completing his petition today. \nIf you have any questions\, contact your District Representative or the Grand Lodge office (office@mnfreemasons.org | 952-948-6700\, 800-245-6050). \nCLICK HERE TO REGISTER A CANDIDATE
URL:https://mnfreemasons.org/event/oneday-2024/
LOCATION:Minneapolis Scottish Rite\, 2011 Dupont Avenue South\, Minneapolis\, MN\, 55405\, United States
CATEGORIES:Degree,Grand Lodge Events,Metroeast Area,Metrowest Area,Northeast Area,Northwest Area,Southeast Area,Southwest Area
ORGANIZER;CN="Grand Lodge of Minnesota":MAILTO:office@mnfreemasons.org
END:VEVENT
BEGIN:VEVENT
DTSTART;TZID=America/Chicago:20240202T080000
DTEND;TZID=America/Chicago:20240202T163000
DTSTAMP:20260422T063743
CREATED:20231228T172931Z
LAST-MODIFIED:20231228T173254Z
UID:10000149-1706860800-1706891400@mnfreemasons.org
SUMMARY:Grand Lodge Monitor Exams
DESCRIPTION:The Board of Custodians has announced that the annual Monitor examinations and re-certifications will be held on February 2-3\, 2024. Both will take place at the Masonic Heritage Center in Bloomington. The lodge doors will open at 8:30 a.m. on both days; coffee at 8:00. Monitors wishing to take part in the re-examination or those wishing to be re-certified are asked to contact WB Al Golder\, Chairman of the Board of Custodians (algolder@gmail.com). \nAny Master Mason is also invited to be a sideliner during the examination so that he may become familiar with the process of being certified as a Monitor. The requirements to become a Monitor are quite simple. The Brother need not have served as Master of his Lodge. However\, to be certified for the first time\, he should bring a letter from his Lodge certifying that\, in the Lodge’s opinion\, the Brother is proficient in the work of the degree on which he wishes to be certified. He must also be familiar with the manual of the rod\, balloting and the examination of visitors; as laid out in the Minnesota Masonic Code\, Section G18.17-G18.20. \nPlease be sure to RSVP if you plan to attend.
URL:https://mnfreemasons.org/event/grand-lodge-monitor-exams-2/
LOCATION:Minnesota Masonic Heritage Center\, 11411 Masonic Home Drive\, Bloomington\, MN\, 55437\, United States
CATEGORIES:Grand Lodge Events
ORGANIZER;CN="Grand Lodge of Minnesota":MAILTO:office@mnfreemasons.org
END:VEVENT
BEGIN:VEVENT
DTSTART;TZID=America/Chicago:20240203T113000
DTEND;TZID=America/Chicago:20240203T140000
DTSTAMP:20260422T063743
CREATED:20231017T145856Z
LAST-MODIFIED:20231017T145856Z
UID:10000386-1706959800-1706968800@mnfreemasons.org
SUMMARY:Texas-Minnesota Reunion
DESCRIPTION:Masons gather in South Texas \nThe MN Winter Texan Masonic Reunion is scheduled for Saturday\, February 3\, 2024\, at Rio Grande Valley Shrine Club in Laferia\, TX. \nGrand Master M.W. Dayton Berg and his Lady Judy were the honored guests. The program will include an update from John Schwietz on the work of MN Masonic Charities and an honoring for all widows present. \nPlease mark your calendar and plan to join us in South Texas!
URL:https://mnfreemasons.org/event/texas-minnesota-reunion/
LOCATION:Rio Grande Valley Shrine Club\, 13415 E Expressway 83\, La Feria\, TX\, 78559\, United States
CATEGORIES:Grand Lodge Events
ORGANIZER;CN="Grand Lodge of Minnesota":MAILTO:office@mnfreemasons.org
END:VEVENT
BEGIN:VEVENT
DTSTART;VALUE=DATE:20240412
DTEND;VALUE=DATE:20240413
DTSTAMP:20260422T063743
CREATED:20240214T175018Z
LAST-MODIFIED:20240214T175018Z
UID:10000408-1712880000-1712966399@mnfreemasons.org
SUMMARY:171st Annual Communication
DESCRIPTION:Please visit our Annual Communication page for full details on this year’s session. \nCLICK HERE
URL:https://mnfreemasons.org/event/171st-annual-communication/
LOCATION:The Park Event Center\, 500 Divison Street\, Waite Park\, MN\, 56387\, United States
CATEGORIES:Grand Lodge Events
ORGANIZER;CN="Grand Lodge of Minnesota":MAILTO:office@mnfreemasons.org
END:VEVENT
BEGIN:VEVENT
DTSTART;TZID=America/Chicago:20241111T183000
DTEND;TZID=America/Chicago:20241111T210000
DTSTAMP:20260422T063743
CREATED:20241017T161857Z
LAST-MODIFIED:20241017T161857Z
UID:10000445-1731349800-1731358800@mnfreemasons.org
SUMMARY:Join or Die Exclusive Screening
DESCRIPTION:A film about why you should join a club…and why the fate of America depends on it. \nThis screening is FREE\, but space is limited! Reserve your tickets now to learn about about rebuilding community—and making friends along the way. \nThis feature-length documentary follows the half-century story of America’s civic unraveling through the eyes of Harvard social scientist Robert Putnam\, author of Bowling Alone. Join him on his quest to understand what happened to civic life in America—and what it will take to bring us back together. \nBonus: Arrive early (or stay late) to meet local organizations offering opportunities to join clubs\, volunteer\, and connect with others in your community. \nViewing is free\, but space is limited. Reserve your spot early! \nTickets are required. Click Here for Tickets!  \nDoors to the theater open at 6:30pm\nViewing starts at 7:00pm\nDirected by Rebecca Davis & Pete Davis\n99 minutes // English // 2023
URL:https://mnfreemasons.org/event/join-or-die-exclusive-screening/
LOCATION:Minnesota Masonic Heritage Center\, 11411 Masonic Home Drive\, Bloomington\, MN\, 55437\, United States
CATEGORIES:Grand Lodge Events
ORGANIZER;CN="Grand Lodge of Minnesota":MAILTO:office@mnfreemasons.org
END:VEVENT
BEGIN:VEVENT
DTSTART;TZID=America/Chicago:20250118T080000
DTEND;TZID=America/Chicago:20250118T163000
DTSTAMP:20260422T063743
CREATED:20240920T184150Z
LAST-MODIFIED:20240920T184150Z
UID:10000440-1737187200-1737217800@mnfreemasons.org
SUMMARY:One-Day-to-Masonry 2025
DESCRIPTION:The 2025 One-Day-to-Masonry is scheduled to be held on January 18\, 2025\, at the Minneapolis Scottish Rite. All three degrees will be portrayed in full form and brothers attending on the sidelines will enjoy the degree work every bit as much as the candidates will. \nThe total cost for candidates (not including lodge dues) is $275. This fee includes all degree fees and assessments\, white leather apron\, ritual cipher\, Minnesota Masonic Manual\, meals for the candidate\, and other items. \nAll Master Masons are invited and encouraged to attend. If a Brother just wants to stop in to witness some of the degree work\, no reservation is required; but if the Brother plans on staying for lunch\, a ticket is required. Lunch tickets are $20 and advanced registration is required. The only tickets available for purchase the day of the event will be last minute cancellations\, so please purchase your lunch tickets in advance. \nFULL DETAILS AND REGISTRATION INFORMATION AT https://mn.grandview.systems/events/1382.
URL:https://mnfreemasons.org/event/one-day-to-masonry-2025/
LOCATION:Minneapolis Scottish Rite\, 2011 Dupont Avenue South\, Minneapolis\, MN\, 55405\, United States
CATEGORIES:Degree,Grand Lodge Events
ORGANIZER;CN="Grand Lodge of Minnesota":MAILTO:office@mnfreemasons.org
END:VEVENT
BEGIN:VEVENT
DTSTART;TZID=America/Chicago:20250207T080000
DTEND;TZID=America/Chicago:20250208T170000
DTSTAMP:20260422T063743
CREATED:20241017T161443Z
LAST-MODIFIED:20241017T161514Z
UID:10000444-1738915200-1739034000@mnfreemasons.org
SUMMARY:Masonic Leadership Academy
DESCRIPTION:The 2025 Minnesota Masonic Leadership Academy (formerly known as the Junior Warden Conference). New for this year\, the academy has been expanded to a two-day event\, starting at 10AM on Friday\, February 7th. Final details and agenda will be available soon. \n  REGISTER NOW  
URL:https://mnfreemasons.org/event/masonic-leadership-academy/
LOCATION:The Park Event Center\, 500 Divison Street\, Waite Park\, MN\, 56387\, United States
CATEGORIES:Grand Lodge Events
ORGANIZER;CN="Grand Lodge of Minnesota":MAILTO:office@mnfreemasons.org
END:VEVENT
BEGIN:VEVENT
DTSTART;TZID=America/Chicago:20250411T080000
DTEND;TZID=America/Chicago:20250412T170000
DTSTAMP:20260422T063743
CREATED:20241002T164019Z
LAST-MODIFIED:20241002T164019Z
UID:10000442-1744358400-1744477200@mnfreemasons.org
SUMMARY:172nd Annual Communication
DESCRIPTION:Registration details will be made available through Grand View.
URL:https://mnfreemasons.org/event/172nd-annual-communication/
LOCATION:The Park Event Center\, 500 Divison Street\, Waite Park\, MN\, 56387\, United States
CATEGORIES:Grand Lodge Events
ORGANIZER;CN="Grand Lodge of Minnesota":MAILTO:office@mnfreemasons.org
END:VEVENT
BEGIN:VEVENT
DTSTART;TZID=America/Chicago:20260117T080000
DTEND;TZID=America/Chicago:20260117T163000
DTSTAMP:20260422T063743
CREATED:20250911T191626Z
LAST-MODIFIED:20250911T191626Z
UID:10000465-1768636800-1768667400@mnfreemasons.org
SUMMARY:2026 One-Day-to-Masonry
DESCRIPTION:The 2026 One-Day-to-Masonry is scheduled to be held on January 17\, 2026\, at the Minneapolis Scottish Rite. All three degrees will be portrayed in full form and brothers attending on the sidelines will enjoy the degree work every bit as much as the candidates will. \nThe total cost for candidates (not including lodge dues) is $300. This fee includes all degree fees and assessments\, white leather apron\, ritual cipher\, Minnesota Masonic Manual\, meals for the candidate\, and other items. \nAll Master Masons are invited and encouraged to attend. If a Brother just wants to stop in to witness some of the degree work\, no reservation is required; but if the Brother plans on staying for breakfast or lunch\, a ticket is required. Breakfast tickets are $15\, lunch tickets are $20 (full day tickets are available for $30) and advanced registration is required. The only tickets available for purchase the day of the event will be last minute cancellations\, so please purchase your meal tickets in advance. \nTHE DEADLINE FOR CANDIDATE REGISTRATIONS AND PURCHASING MEAL TICKETS IS WEDNESDAY\, JANUARY 7TH. \nFirst-line signers are asked to have the candidate complete a regular petition for the degrees. That petition must be sent to the local Lodge along with the required fee and a request to attend this One-Day-to-Masonry event. **All candidates must have been elected by the lodge to receive the degrees of Freemasonry prior to the registration deadline.** Time is drawing short\, so do not delay—assist your candidate in completing his petition today. \nPlease RSVP to attend via Grand View.
URL:https://mnfreemasons.org/event/2026-one-day-to-masonry/
LOCATION:Minneapolis Scottish Rite\, 2011 Dupont Avenue South\, Minneapolis\, MN\, 55405\, United States
CATEGORIES:Grand Lodge Events
ORGANIZER;CN="Grand Lodge of Minnesota":MAILTO:office@mnfreemasons.org
END:VEVENT
BEGIN:VEVENT
DTSTART;TZID=America/Chicago:20260417T080000
DTEND;TZID=America/Chicago:20260418T170000
DTSTAMP:20260422T063743
CREATED:20241002T165841Z
LAST-MODIFIED:20260123T164358Z
UID:10000443-1776412800-1776531600@mnfreemasons.org
SUMMARY:173rd Annual Communication
DESCRIPTION:  \nPlease visit the Annual Communication landing page for the latest event information.
URL:https://mnfreemasons.org/event/173rd-annual-communication/
LOCATION:The Park Event Center\, 500 Divison Street\, Waite Park\, MN\, 56387\, United States
CATEGORIES:Grand Lodge Events
ORGANIZER;CN="Grand Lodge of Minnesota":MAILTO:office@mnfreemasons.org
END:VEVENT
END:VCALENDAR