BEGIN:VCALENDAR
VERSION:2.0
PRODID:-//Minnesota Freemasons - ECPv6.15.20//NONSGML v1.0//EN
CALSCALE:GREGORIAN
METHOD:PUBLISH
X-WR-CALNAME:Minnesota Freemasons
X-ORIGINAL-URL:https://mnfreemasons.org
X-WR-CALDESC:Events for Minnesota Freemasons
REFRESH-INTERVAL;VALUE=DURATION:PT1H
X-Robots-Tag:noindex
X-PUBLISHED-TTL:PT1H
BEGIN:VTIMEZONE
TZID:America/Chicago
BEGIN:DAYLIGHT
TZOFFSETFROM:-0600
TZOFFSETTO:-0500
TZNAME:CDT
DTSTART:20220313T080000
END:DAYLIGHT
BEGIN:STANDARD
TZOFFSETFROM:-0500
TZOFFSETTO:-0600
TZNAME:CST
DTSTART:20221106T070000
END:STANDARD
BEGIN:DAYLIGHT
TZOFFSETFROM:-0600
TZOFFSETTO:-0500
TZNAME:CDT
DTSTART:20230312T080000
END:DAYLIGHT
BEGIN:STANDARD
TZOFFSETFROM:-0500
TZOFFSETTO:-0600
TZNAME:CST
DTSTART:20231105T070000
END:STANDARD
BEGIN:DAYLIGHT
TZOFFSETFROM:-0600
TZOFFSETTO:-0500
TZNAME:CDT
DTSTART:20240310T080000
END:DAYLIGHT
BEGIN:STANDARD
TZOFFSETFROM:-0500
TZOFFSETTO:-0600
TZNAME:CST
DTSTART:20241103T070000
END:STANDARD
END:VTIMEZONE
BEGIN:VEVENT
DTSTART;TZID=America/Chicago:20230414T080000
DTEND;TZID=America/Chicago:20230415T170000
DTSTAMP:20260424T080059
CREATED:20200506T213231Z
LAST-MODIFIED:20230508T193821Z
UID:10000158-1681459200-1681578000@mnfreemasons.org
SUMMARY:170th Annual Communication
DESCRIPTION:The 170th Annual Communication of the Grand Lodge of Minnesota will be held on April 14 and 15\, 2023 in St. Cloud. \nAdditional information and links to registration and hotel reservations can be found on our Annual Communication landing page.
URL:https://mnfreemasons.org/event/170th-annual-communication/
LOCATION:The Park Event Center\, 500 Divison Street\, Waite Park\, MN\, 56387\, United States
CATEGORIES:Grand Lodge Events
ORGANIZER;CN="Grand Lodge of Minnesota":MAILTO:office@mnfreemasons.org
END:VEVENT
END:VCALENDAR