BEGIN:VCALENDAR
VERSION:2.0
PRODID:-//Minnesota Freemasons - ECPv6.15.20//NONSGML v1.0//EN
CALSCALE:GREGORIAN
METHOD:PUBLISH
X-WR-CALNAME:Minnesota Freemasons
X-ORIGINAL-URL:https://mnfreemasons.org
X-WR-CALDESC:Events for Minnesota Freemasons
REFRESH-INTERVAL;VALUE=DURATION:PT1H
X-Robots-Tag:noindex
X-PUBLISHED-TTL:PT1H
BEGIN:VTIMEZONE
TZID:America/Chicago
BEGIN:DAYLIGHT
TZOFFSETFROM:-0600
TZOFFSETTO:-0500
TZNAME:CDT
DTSTART:20220313T080000
END:DAYLIGHT
BEGIN:STANDARD
TZOFFSETFROM:-0500
TZOFFSETTO:-0600
TZNAME:CST
DTSTART:20221106T070000
END:STANDARD
BEGIN:DAYLIGHT
TZOFFSETFROM:-0600
TZOFFSETTO:-0500
TZNAME:CDT
DTSTART:20230312T080000
END:DAYLIGHT
BEGIN:STANDARD
TZOFFSETFROM:-0500
TZOFFSETTO:-0600
TZNAME:CST
DTSTART:20231105T070000
END:STANDARD
BEGIN:DAYLIGHT
TZOFFSETFROM:-0600
TZOFFSETTO:-0500
TZNAME:CDT
DTSTART:20240310T080000
END:DAYLIGHT
BEGIN:STANDARD
TZOFFSETFROM:-0500
TZOFFSETTO:-0600
TZNAME:CST
DTSTART:20241103T070000
END:STANDARD
END:VTIMEZONE
BEGIN:VEVENT
DTSTART;TZID=America/Chicago:20230325T080000
DTEND;TZID=America/Chicago:20230325T170000
DTSTAMP:20260424T092153
CREATED:20230125T014746Z
LAST-MODIFIED:20230308T191100Z
UID:10000268-1679731200-1679763600@mnfreemasons.org
SUMMARY:Statewide Membership Conference
DESCRIPTION:Guest speakers from across Minnesota Freemasonry will give collaborative presentations on recruitment\, retention\, and engagement. Through conversation and call to action\, we will endeavor to illuminate a bold vision for the next generation preparing to pick up their own working tools. Mark your calendars and plan to join us in this great and good work. \nTentative Agenda \n\n• 9 am – Membership Engagement hosted by Brother Brad Batdorf of Montgomery Lodge #258\, on the importance of lodge websites\, and social media pages.\n• 10 am – Membership Recruitment hosted by WB Jerry Brown\, and Brother Ross Gullickson of Mankato Lodge #12.\n• 11 am – Membership Retention hosted by WB Ross Johnson of Corinthian Lodge #67.\n• 12 pm – Lunch\n• 1 pm – Round table discussion hosted by Membership Chair\, David Hartman and featuring 7 brothers recently raised from lodges across the state who will speak on their experience in joining Freemasonry at their respective lodges.\n• 2 pm – Keynote speaker:  Jonathan A. Underwood\, Grand Secretary of the Grand Lodge of North Carolina (Keynote topic:  Vision\, Values\, and Perception v. Reality)\n• 3:30 pm – Closing remarks by MWGM Tony R. Krall.\n\nThe day will also include informational booths and staff from all appendant bodies of Masonry who will be on hand to answer any questions about their respective organization. \nRegistration begins at 8 AM. A continental breakfast and light lunch will be served. Please be sure to RSVP by 3/15/2023.
URL:https://mnfreemasons.org/event/statewide-membership-conference/
LOCATION:Minneapolis Scottish Rite\, 2011 Dupont Avenue South\, Minneapolis\, MN\, 55405\, United States
CATEGORIES:Grand Lodge Events
ORGANIZER;CN="Grand Lodge of Minnesota":MAILTO:office@mnfreemasons.org
END:VEVENT
END:VCALENDAR