BEGIN:VCALENDAR
VERSION:2.0
PRODID:-//Minnesota Freemasons - ECPv6.15.20//NONSGML v1.0//EN
CALSCALE:GREGORIAN
METHOD:PUBLISH
X-WR-CALNAME:Minnesota Freemasons
X-ORIGINAL-URL:https://mnfreemasons.org
X-WR-CALDESC:Events for Minnesota Freemasons
REFRESH-INTERVAL;VALUE=DURATION:PT1H
X-Robots-Tag:noindex
X-PUBLISHED-TTL:PT1H
BEGIN:VTIMEZONE
TZID:America/Chicago
BEGIN:DAYLIGHT
TZOFFSETFROM:-0600
TZOFFSETTO:-0500
TZNAME:CDT
DTSTART:20220313T080000
END:DAYLIGHT
BEGIN:STANDARD
TZOFFSETFROM:-0500
TZOFFSETTO:-0600
TZNAME:CST
DTSTART:20221106T070000
END:STANDARD
BEGIN:DAYLIGHT
TZOFFSETFROM:-0600
TZOFFSETTO:-0500
TZNAME:CDT
DTSTART:20230312T080000
END:DAYLIGHT
BEGIN:STANDARD
TZOFFSETFROM:-0500
TZOFFSETTO:-0600
TZNAME:CST
DTSTART:20231105T070000
END:STANDARD
BEGIN:DAYLIGHT
TZOFFSETFROM:-0600
TZOFFSETTO:-0500
TZNAME:CDT
DTSTART:20240310T080000
END:DAYLIGHT
BEGIN:STANDARD
TZOFFSETFROM:-0500
TZOFFSETTO:-0600
TZNAME:CST
DTSTART:20241103T070000
END:STANDARD
END:VTIMEZONE
BEGIN:VEVENT
DTSTART;TZID=America/Chicago:20230121T080000
DTEND;TZID=America/Chicago:20230121T170000
DTSTAMP:20260424T115944
CREATED:20220722T155753Z
LAST-MODIFIED:20230112T191947Z
UID:10000203-1674288000-1674320400@mnfreemasons.org
SUMMARY:2023 One-Day-to-Masonry
DESCRIPTION:The 2023 One-Day-to-Masonry is scheduled to be held on January 21\, 2023\, at the Minneapolis Scottish Rite. \nAs with past One-Day-to-Masonry events\, this one will include a continental breakfast and a hearty lunch. All three degrees will be portrayed in full form. Brothers attending on the sidelines will enjoy the degree work every bit as much as the candidates will. \nThe total cost for candidates (not including lodge dues) is $250. This fee includes all degree fees and assessments\, white leather apron\, ritual cipher\, Minnesota Masonic Manual\, meals for the candidate\, and other items. \nAll Master Masons are invited and encouraged to attend. If a Brother just wants to stop in to witness some of the degree work\, no reservation is required; but if the Brother plans on staying for lunch\, a ticket is required. \nTHE DEADLINE FOR CANDIDATE REGISTRATIONS AND PURCHASING MEAL TICKETS IS WEDNESDAY\, JANUARY 11TH. \nFirst-line signers are asked to have the candidate complete a regular petition for the degrees. That petition must be sent to the local Lodge along with the required fee and a request to attend this One-Day-to-Masonry event. Time will soon be drawing short\, so do not delay—assist your candidate in completing his petition today. \nIf you have any questions\, contact your District Representative or the Grand Lodge office (office@grandlodgemn.org | 952-948-6700\, 800-245-6050). \n 
URL:https://mnfreemasons.org/event/oneday-2023/
LOCATION:Minneapolis Scottish Rite\, 2011 Dupont Avenue South\, Minneapolis\, MN\, 55405\, United States
CATEGORIES:Degree,Grand Lodge Events
ORGANIZER;CN="Grand Lodge of Minnesota":MAILTO:office@mnfreemasons.org
END:VEVENT
END:VCALENDAR