BEGIN:VCALENDAR
VERSION:2.0
PRODID:-//Minnesota Freemasons - ECPv6.15.20//NONSGML v1.0//EN
CALSCALE:GREGORIAN
METHOD:PUBLISH
X-WR-CALNAME:Minnesota Freemasons
X-ORIGINAL-URL:https://mnfreemasons.org
X-WR-CALDESC:Events for Minnesota Freemasons
REFRESH-INTERVAL;VALUE=DURATION:PT1H
X-Robots-Tag:noindex
X-PUBLISHED-TTL:PT1H
BEGIN:VTIMEZONE
TZID:America/Chicago
BEGIN:DAYLIGHT
TZOFFSETFROM:-0600
TZOFFSETTO:-0500
TZNAME:CDT
DTSTART:20210314T080000
END:DAYLIGHT
BEGIN:STANDARD
TZOFFSETFROM:-0500
TZOFFSETTO:-0600
TZNAME:CST
DTSTART:20211107T070000
END:STANDARD
BEGIN:DAYLIGHT
TZOFFSETFROM:-0600
TZOFFSETTO:-0500
TZNAME:CDT
DTSTART:20220313T080000
END:DAYLIGHT
BEGIN:STANDARD
TZOFFSETFROM:-0500
TZOFFSETTO:-0600
TZNAME:CST
DTSTART:20221106T070000
END:STANDARD
BEGIN:DAYLIGHT
TZOFFSETFROM:-0600
TZOFFSETTO:-0500
TZNAME:CDT
DTSTART:20230312T080000
END:DAYLIGHT
BEGIN:STANDARD
TZOFFSETFROM:-0500
TZOFFSETTO:-0600
TZNAME:CST
DTSTART:20231105T070000
END:STANDARD
BEGIN:DAYLIGHT
TZOFFSETFROM:-0600
TZOFFSETTO:-0500
TZNAME:CDT
DTSTART:20240310T080000
END:DAYLIGHT
BEGIN:STANDARD
TZOFFSETFROM:-0500
TZOFFSETTO:-0600
TZNAME:CST
DTSTART:20241103T070000
END:STANDARD
BEGIN:DAYLIGHT
TZOFFSETFROM:-0600
TZOFFSETTO:-0500
TZNAME:CDT
DTSTART:20250309T080000
END:DAYLIGHT
BEGIN:STANDARD
TZOFFSETFROM:-0500
TZOFFSETTO:-0600
TZNAME:CST
DTSTART:20251102T070000
END:STANDARD
BEGIN:DAYLIGHT
TZOFFSETFROM:-0600
TZOFFSETTO:-0500
TZNAME:CDT
DTSTART:20260308T080000
END:DAYLIGHT
BEGIN:STANDARD
TZOFFSETFROM:-0500
TZOFFSETTO:-0600
TZNAME:CST
DTSTART:20261101T070000
END:STANDARD
BEGIN:DAYLIGHT
TZOFFSETFROM:-0600
TZOFFSETTO:-0500
TZNAME:CDT
DTSTART:20270314T080000
END:DAYLIGHT
BEGIN:STANDARD
TZOFFSETFROM:-0500
TZOFFSETTO:-0600
TZNAME:CST
DTSTART:20271107T070000
END:STANDARD
END:VTIMEZONE
BEGIN:VEVENT
DTSTART;TZID=America/Chicago:20220327T070000
DTEND;TZID=America/Chicago:20220327T130000
DTSTAMP:20260422T164905
CREATED:20220201T160719Z
LAST-MODIFIED:20220411T222319Z
UID:10000164-1648364400-1648386000@mnfreemasons.org
SUMMARY:Tusler-Summit Spring Pancake Breakfast
DESCRIPTION:Tusler-Summit in Roseville\, is hosting a Pancake Breakfast to coincide with the Osman Shrine Circus being in town on March 27th. As many of you know\, this has been a long-standing tradition at Tusler-Summit\, and we hope to see you all there!
URL:https://mnfreemasons.org/event/tusler-summit-spring-pancake-breakfast/
LOCATION:Tusler-Summit Lodge No. 263\, 1321 W County Road B2 - PO Box 131808\, Roseville\, Minnesota\, 55113\, United States
CATEGORIES:Fundraiser,Lodge Events,pancake breakfast
ATTACH;FMTTYPE=:
ORGANIZER;CN="Tusler-Summit Lodge #263":MAILTO:masons@tusler-summit.org
GEO:45.014227;-93.155717
X-APPLE-STRUCTURED-LOCATION;VALUE=URI;X-ADDRESS=Tusler-Summit Lodge No. 263 1321 W County Road B2 - PO Box 131808 Roseville Minnesota 55113 United States;X-APPLE-RADIUS=500;X-TITLE=1321 W County Road B2 - PO Box 131808:geo:-93.155717,45.014227
END:VEVENT
BEGIN:VEVENT
DTSTART;TZID=America/Chicago:20220410T073000
DTEND;TZID=America/Chicago:20220410T130000
DTSTAMP:20260422T164905
CREATED:20220228T160027Z
LAST-MODIFIED:20220519T164213Z
UID:10000169-1649575800-1649595600@mnfreemasons.org
SUMMARY:Fraternal Lodge Palm Sunday Breakfast
DESCRIPTION:Annual Palm Sunday breakfast at Fraternal Lodge in Princeton. The finest square biscuits\, eggs\, sausage gravy\,\nand beverage. All you can eat! \nCost $10.00 Kids 10 and under eat free.
URL:https://mnfreemasons.org/event/fraternal-lodge-palm-sunday-breakfast/
LOCATION:Fraternal Lodge No. 92\, 101 North 6th Avenue\, Princeton\, Minnesota\, 55371\, United States
CATEGORIES:Fundraiser,Metroeast Area,pancake breakfast
ORGANIZER;CN="Fraternal Lodge":MAILTO:rogerputnam@q.com
GEO:45.570004;-93.581915
X-APPLE-STRUCTURED-LOCATION;VALUE=URI;X-ADDRESS=Fraternal Lodge No. 92 101 North 6th Avenue Princeton Minnesota 55371 United States;X-APPLE-RADIUS=500;X-TITLE=101 North 6th Avenue:geo:-93.581915,45.570004
END:VEVENT
BEGIN:VEVENT
DTSTART;TZID=America/Chicago:20220424T090000
DTEND;TZID=America/Chicago:20220424T130000
DTSTAMP:20260422T164905
CREATED:20220401T190613Z
LAST-MODIFIED:20220519T164213Z
UID:10000175-1650790800-1650805200@mnfreemasons.org
SUMMARY:Forest Lake Masons Spring Sunday Brunch
DESCRIPTION:The Forest Lake Masons will be hosting a “Spring Sunday Brunch” Drive thru or Dine In with two different offerings!! Choose either a European Breakfast Wrap\, a crepe filled with Peasant Potatoes\, Tuscan Scrambled Eggs\, with Crème Fresh and topped with German Country Sausage and a Maple Drizzle. OR select a Huge serving of pancakes with German Country Sausage. IT IS ALL AWESOME! \nThe Masons will also be matching funds donated at the drive thru to Firefly Sisterhood helping Breast Cancer individuals thru the path of treatment.
URL:https://mnfreemasons.org/event/forest-lake-masons-spring-sunday-brunch/
LOCATION:Forest Lake Lodge No. 344\, 119 8th Avenue SE\, Forest Lake\, Minnesota\, 55025\, United States
CATEGORIES:Fundraiser
ORGANIZER;CN="Forest Lake Lodge #344":MAILTO:ForestLakeMasons@gmail.com
GEO:45.271479;-92.982036
X-APPLE-STRUCTURED-LOCATION;VALUE=URI;X-ADDRESS=Forest Lake Lodge No. 344 119 8th Avenue SE Forest Lake Minnesota 55025 United States;X-APPLE-RADIUS=500;X-TITLE=119 8th Avenue SE:geo:-92.982036,45.271479
END:VEVENT
BEGIN:VEVENT
DTSTART;TZID=America/Chicago:20220604T180000
DTEND;TZID=America/Chicago:20220604T203000
DTSTAMP:20260422T164905
CREATED:20220418T184730Z
LAST-MODIFIED:20220519T164212Z
UID:10000188-1654365600-1654374600@mnfreemasons.org
SUMMARY:Sherburne 95 Scholarship Fundraiser
DESCRIPTION:Sherburne Lodge #95 presents its 10th Annual Scholarship Fundraiser. \nThe event begins at 6 PM and raffle prizes will be drawn at 8 PM. \nRaffle Tickets are $5 each\, or 5 for $20. The raffle tickets are placed into gift Baskets to win Prizes.\nDrink Tickets are 3 for $20\, half of which goes to the Scholarship and half to the Bar.\nFood is also available but not required. \nThere will be a cigar lounge on the side patio for those who wish to partake. \nPlease join us for a fun night and help us raise money for those students in need!
URL:https://mnfreemasons.org/event/scholarship-fundraiser-sherburne/
LOCATION:Kraus-Hartig\, 8100 Pleasant View Dr NE\,\, Spring Lake Park\, MN\, 55432
CATEGORIES:Fundraiser
ORGANIZER;CN="Sherburne Lodge #95":MAILTO:Sweetidiot@Aol.Com
END:VEVENT
BEGIN:VEVENT
DTSTART;TZID=America/Chicago:20220625T080000
DTEND;TZID=America/Chicago:20220625T110000
DTSTAMP:20260422T164905
CREATED:20220329T193507Z
LAST-MODIFIED:20220519T164105Z
UID:10000171-1656144000-1656154800@mnfreemasons.org
SUMMARY:Corinthian Lodge 67 Annual Waffle Breakfast
DESCRIPTION:Join us for Corinthian Lodge 67\’s Annual Scholarship Waffle Breakfast in Farmington\, MN!\nThis event occurs during the City of Farmington\’s Dew Days celebration and parade.
URL:https://mnfreemasons.org/event/corinthian-lodge-67-annual-waffle-breakfast/
LOCATION:Corinthian Lodge No. 67\, 326 - 3rd Street\, Farmington\, Minnesota\, 55024\, United States
CATEGORIES:Fundraiser
GEO:44.639581;-93.145558
X-APPLE-STRUCTURED-LOCATION;VALUE=URI;X-ADDRESS=Corinthian Lodge No. 67 326 - 3rd Street Farmington Minnesota 55024 United States;X-APPLE-RADIUS=500;X-TITLE=326 - 3rd Street:geo:-93.145558,44.639581
END:VEVENT
BEGIN:VEVENT
DTSTART;TZID=America/Chicago:20220925T080000
DTEND;TZID=America/Chicago:20220925T130000
DTSTAMP:20260422T164905
CREATED:20220414T165244Z
LAST-MODIFIED:20220907T161841Z
UID:10000177-1664092800-1664110800@mnfreemasons.org
SUMMARY:South Minneapolis Pancake Breakfast
DESCRIPTION:Classic Breakfast $10 donation all you can eat!\n-Buttermilk Pancakes\n-Sausage Links\n-Scrambled Eggs \nOR…. \nChef’s Signature Brunch $15 donation 1-serving!\n-Buttermilk Pancakes w/ Blueberry Compote\n-Millionaires Bacon\n-Creamy Hashbrowns\n-Mediterranean Vegetable Frittata\n-Mixed fruit \nNet proceeds to benefit Hiawatha Chapter of DeMolay and Face It Foundation.
URL:https://mnfreemasons.org/event/south-minneapolis-pancake-breakfast/
LOCATION:Minnehaha Lodge No. 165\, 5149 Bloomington Avenue South\, Minneapolis\, Minnesota\, 55417\, United States
CATEGORIES:Fundraiser,Lodge Events,Metrowest Area,pancake breakfast
ORGANIZER;CN="Cataract Lodge No. 2":MAILTO:Douglas.Campbell@me.com
GEO:44.909782;-93.25244
X-APPLE-STRUCTURED-LOCATION;VALUE=URI;X-ADDRESS=Minnehaha Lodge No. 165 5149 Bloomington Avenue South Minneapolis Minnesota 55417 United States;X-APPLE-RADIUS=500;X-TITLE=5149 Bloomington Avenue South:geo:-93.25244,44.909782
END:VEVENT
BEGIN:VEVENT
DTSTART;TZID=America/Chicago:20221008T180000
DTEND;TZID=America/Chicago:20221008T210000
DTSTAMP:20260422T164905
CREATED:20220916T212022Z
LAST-MODIFIED:20231114T202222Z
UID:10000223-1665252000-1665262800@mnfreemasons.org
SUMMARY:Oktoberfest Night
DESCRIPTION:Please join us for a night of Fellowship and Fun at the Kraus-Hartig VFW\, as we raise money to help raise money for our WB James LaRock Scholarship Fund which provides Scholarships for Local Students. \nThere will be plenty of fun opportunities to contribute to the scholarship fund\, so bring plenty of cash.\nTickets for door prizes will be $5 each or 5 for $20. You then get to decide which gift baskets you want to try to win. \nThe VFW once again is serving meals and so you can order something to eat if you wish to do so. \nA number of us will be enjoying Cigars on the Patio as well\, so bring them if you got them
URL:https://mnfreemasons.org/event/oktoberfest-night/
LOCATION:Kraus-Hartig VFW\, 8100 Pleasant View Dr. NE\, Spring Lake Park\, 55432
CATEGORIES:Fundraiser
ORGANIZER;CN="Sherburne Lodge #95":MAILTO:Sweetidiot@Aol.Com
END:VEVENT
BEGIN:VEVENT
DTSTART;TZID=America/Chicago:20221113T090000
DTEND;TZID=America/Chicago:20221113T123000
DTSTAMP:20260422T164905
CREATED:20221114T162113Z
LAST-MODIFIED:20231114T202222Z
UID:10000259-1668330000-1668342600@mnfreemasons.org
SUMMARY:Breakfast with the Elk’s
DESCRIPTION:Temple Lodge #59 @ the Hutchinson Elk’s Club East HWY 7 Hutchinson\,\n$12 for Adults
URL:https://mnfreemasons.org/event/breakfast-with-the-elks/
LOCATION:Temple Lodge No. 59\, PO Box 681\, Hutchinson\, Minnesota\, 55350\, United States
CATEGORIES:Fundraiser
GEO:44.892548;-94.369293
X-APPLE-STRUCTURED-LOCATION;VALUE=URI;X-ADDRESS=Temple Lodge No. 59 PO Box 681 Hutchinson Minnesota 55350 United States;X-APPLE-RADIUS=500;X-TITLE=PO Box 681:geo:-94.369293,44.892548
END:VEVENT
BEGIN:VEVENT
DTSTART;TZID=America/Chicago:20230326T060000
DTEND;TZID=America/Chicago:20230326T113000
DTSTAMP:20260422T164905
CREATED:20230306T151040Z
LAST-MODIFIED:20230308T191100Z
UID:10000312-1679810400-1679830200@mnfreemasons.org
SUMMARY:Tusler-Summit Pancake Breakfast
DESCRIPTION:It is that time of year gain! The Osman Shrine Circus is coming to town\, and Tusler-Summit is holding its annual Pancake Breakfast and all are welcome! Join us for a hot made to order meal! The Brothers of Tusler-Summit will be sering up hot off the griddle pancakes\, made to order omlettes and more! \n$10 / Adult\n$5 / Children Under 10\nFirst Responders are Free \nDoors open @ 6 AM on March 26th.
URL:https://mnfreemasons.org/event/tusler-summit-pancake-breakfast/
LOCATION:Tusler-Summit Lodge No. 263\, 1321 W County Road B2 - PO Box 131808\, Roseville\, Minnesota\, 55113\, United States
CATEGORIES:Fundraiser
ORGANIZER;CN="Tusler-Summit Lodge #263":MAILTO:masons@tusler-summit.org
GEO:45.014227;-93.155717
X-APPLE-STRUCTURED-LOCATION;VALUE=URI;X-ADDRESS=Tusler-Summit Lodge No. 263 1321 W County Road B2 - PO Box 131808 Roseville Minnesota 55113 United States;X-APPLE-RADIUS=500;X-TITLE=1321 W County Road B2 - PO Box 131808:geo:-93.155717,45.014227
END:VEVENT
BEGIN:VEVENT
DTSTART;VALUE=DATE:20230818
DTEND;VALUE=DATE:20231003
DTSTAMP:20260422T164905
CREATED:20230721T144553Z
LAST-MODIFIED:20230726T142535Z
UID:10000357-1692360000-1696204800@mnfreemasons.org
SUMMARY:Statewide Masonic Fishing Tournament
DESCRIPTION:This is a state wide fishing tournament which can be fished on your favorite fishing hole. Brothers can compete for the prizes and show off their fishing skills. Winning a cash prize and a cash prize for their lodge\, if they are good enough! \nFishing starts noon\, August 18\,2023 registration must be in prior to that. See flyer for details. Or call or text Myron @ 612-867-1359 \nIf I don’t get back to you right away\, you can assume I am fishing!
URL:https://mnfreemasons.org/event/statewide-masonic-fishing-tournament/
LOCATION:Fraternal Lodge No. 92\, 101 North 6th Avenue\, Princeton\, Minnesota\, 55371\, United States
CATEGORIES:Fundraiser
ORGANIZER;CN="Fraternal Lodge":MAILTO:rogerputnam@q.com
GEO:45.570004;-93.581915
X-APPLE-STRUCTURED-LOCATION;VALUE=URI;X-ADDRESS=Fraternal Lodge No. 92 101 North 6th Avenue Princeton Minnesota 55371 United States;X-APPLE-RADIUS=500;X-TITLE=101 North 6th Avenue:geo:-93.581915,45.570004
END:VEVENT
BEGIN:VEVENT
DTSTART;TZID=America/Chicago:20231008T080000
DTEND;TZID=America/Chicago:20231008T110000
DTSTAMP:20260422T164905
CREATED:20231016T135951Z
LAST-MODIFIED:20231016T140004Z
UID:10000382-1696752000-1696762800@mnfreemasons.org
SUMMARY:Pancake Breakfast Fundraiser
DESCRIPTION:Join Pleasant Grove Lodge No. 22 for a pancake breakfast fundraiser at the Stewartville\, MN American Legion.
URL:https://mnfreemasons.org/event/pancake-breakfast-fundraiser/
LOCATION:Stewartville American Legion in Stewartville
CATEGORIES:Fundraiser,Lodge Events
END:VEVENT
BEGIN:VEVENT
DTSTART;TZID=America/Chicago:20231014T180000
DTEND;TZID=America/Chicago:20231014T200000
DTSTAMP:20260422T164905
CREATED:20231004T200349Z
LAST-MODIFIED:20231114T202221Z
UID:10000384-1697306400-1697313600@mnfreemasons.org
SUMMARY:Oktoberfest Night
DESCRIPTION:The Brethren of Sherburne Lodge #95 will be hosting their 10th Annual Oktoberfest Night. This is the night we raise money for our Scholarship Program. There will be an “All You Can Eat” with all the Fixings and Nacho’s for just $15 if you wish to eat. We will have Drink tickets\, 3 for $20 (Half of which goes to the Scholarships) and we will raffle off Gift Baskets\, tickets of which can be bought for $5 a ticket or 5 for $20. The Drawing will be held at 8pm. \nWhen: Saturday\, October 14th\nTime; 6pm Start for Food\, 8pm (or just prior for Raffle)\nWhere: Kraus-Hartig VFW (8100 Pleasant View Dr. NE\, Spring Lake Park\, MN 55432) \nFor those wanting to stay\, we will be smoking Cigars on the Patio and Karaoke will be happening just after 8pm.
URL:https://mnfreemasons.org/event/oktoberfest-night-2/
LOCATION:Kraus-Hartig VFW\, 8100 Pleasant View Dr. NE\, Spring Lake Park\, 55432
CATEGORIES:Fundraiser,Lodge Events,Metrowest Area
ORGANIZER;CN="Sherburne Lodge #95":MAILTO:Sweetidiot@Aol.Com
END:VEVENT
BEGIN:VEVENT
DTSTART;TZID=America/Chicago:20231104T180000
DTEND;TZID=America/Chicago:20231104T190000
DTSTAMP:20260422T164905
CREATED:20231004T200926Z
LAST-MODIFIED:20231017T205545Z
UID:10000380-1699120800-1699124400@mnfreemasons.org
SUMMARY:Masonic Fall Formal - Southeast Masonic Association at Mankato Lodge No. 12 in Mankato starting
DESCRIPTION:
URL:https://mnfreemasons.org/event/masonic-fall-formal-southeast-masonic-association/
LOCATION:Mankato Lodge No. 12 in Mankato
CATEGORIES:Fundraiser,Lodge Events,Southeast Area
END:VEVENT
BEGIN:VEVENT
DTSTART;TZID=America/Chicago:20240426T180000
DTEND;TZID=America/Chicago:20240426T190000
DTSTAMP:20260422T164905
CREATED:20230913T143137Z
LAST-MODIFIED:20240423T215543Z
UID:10000377-1714154400-1714158000@mnfreemasons.org
SUMMARY:Mankato Wine Tasting Fundraiser - Mankato No. 12 at Mankato Lodge in Mankato starting
DESCRIPTION:
URL:https://mnfreemasons.org/event/mankato-wine-tasting-fundraiser/
LOCATION:Mankato Lodge in Mankato
CATEGORIES:Fundraiser,Lodge Events,Southeast Area
END:VEVENT
BEGIN:VEVENT
DTSTART;TZID=America/Chicago:20240428T080000
DTEND;TZID=America/Chicago:20240428T120000
DTSTAMP:20260422T164905
CREATED:20240311T184855Z
LAST-MODIFIED:20240311T184855Z
UID:10000410-1714291200-1714305600@mnfreemasons.org
SUMMARY:Jasper Lodge #164 - French Toast Breakfast
DESCRIPTION:Jasper Lodge is hosting a French toast breakfast. Includes scrambled eggs\, sausage\, milk\, juice\, coffee. Jasper Lodge is located at 155 W 4th St\, Rush City\, MN 55069. Please bring a non-perishable food item to donate to the Rush City Food Shelf. Prices are $10 Adults\, $5 Kids aged 7-12\, Kids 6 and Under are free.
URL:https://mnfreemasons.org/event/jasper-lodge-164-french-toast-breakfast/
LOCATION:MN
CATEGORIES:Fundraiser
END:VEVENT
BEGIN:VEVENT
DTSTART;TZID=America/Chicago:20250913T110000
DTEND;TZID=America/Chicago:20250913T190000
DTSTAMP:20260422T164905
CREATED:20250825T133824Z
LAST-MODIFIED:20250825T133824Z
UID:10000464-1757761200-1757790000@mnfreemasons.org
SUMMARY:Star Lodge Golf Scramble
DESCRIPTION:5th Annual Golf Scramble Fundraiser web \nRegistration 11AM-12:30PM\nShotgun start 1PM\nDinner after golf\n18 holes golf\, cart\, and dinner included. \n 
URL:https://mnfreemasons.org/event/star-lodge-golf-scramble/
LOCATION:Pheasant Acers Golf Course\, 10705 County Rd 116\, Rogers\, 55374
CATEGORIES:Fundraiser,Lodge Events
END:VEVENT
BEGIN:VEVENT
DTSTART;TZID=America/Chicago:20251011T120000
DTEND;TZID=America/Chicago:20251011T170000
DTSTAMP:20260422T164905
CREATED:20250916T220306Z
LAST-MODIFIED:20250916T220306Z
UID:10000466-1760184000-1760202000@mnfreemasons.org
SUMMARY:Nelson Lodge BBQ Festival
DESCRIPTION:
URL:https://mnfreemasons.org/event/nelson-lodge-bbq-festival/
LOCATION:Lakeview Fields\, Buffalo MN\, Buffalo\, MN\, United States
CATEGORIES:Fundraiser,Lodge Events
ORGANIZER;CN="Nelson Lodge 135":MAILTO:www.nelson135.org
END:VEVENT
BEGIN:VEVENT
DTSTART;TZID=America/Chicago:20260411T160000
DTEND;TZID=America/Chicago:20260411T220000
DTSTAMP:20260422T164905
CREATED:20260311T160701Z
LAST-MODIFIED:20260311T160701Z
UID:10000469-1775923200-1775944800@mnfreemasons.org
SUMMARY:42nd Annual Hog Roast
DESCRIPTION:Star Lodge No. 62 invites you to its 42nd annual hog roast. \nSaturday\, April 11th\n4PM-10PM at the Rockford Township Hall\nRaffles start at 4PM\, Dinner at 5PM (all you can eat)\, Raffle drawings start at 6:30PM\, DJ to follow. \nFunds raised are donated to the Riverworks Foodshelf in Rockford; Project Pencils; My Very Own Bed; First Responder Program; local scholarships; multiple other community and school events; Minnesota Masonic Charities; and repairs to our 150+ year old historic lodge building in Rockford\, MN. \nTickets: $30 at the door; kids 12 and under are free.\nDoor prizes and raffles galore! \nQuestions: Erik Sorenson\, 763-639-9993\, starlodge62@gmail.com
URL:https://mnfreemasons.org/event/42nd-annual-hog-roast/
LOCATION:Rockford Township Hall\, 3039 Dague Ave SE\, Buffalo\, MN\, United States
CATEGORIES:Fundraiser,Lodge Events
END:VEVENT
END:VCALENDAR