BEGIN:VCALENDAR
VERSION:2.0
PRODID:-//Minnesota Freemasons - ECPv6.15.20//NONSGML v1.0//EN
CALSCALE:GREGORIAN
METHOD:PUBLISH
X-WR-CALNAME:Minnesota Freemasons
X-ORIGINAL-URL:https://mnfreemasons.org
X-WR-CALDESC:Events for Minnesota Freemasons
REFRESH-INTERVAL;VALUE=DURATION:PT1H
X-Robots-Tag:noindex
X-PUBLISHED-TTL:PT1H
BEGIN:VTIMEZONE
TZID:America/Chicago
BEGIN:DAYLIGHT
TZOFFSETFROM:-0600
TZOFFSETTO:-0500
TZNAME:CDT
DTSTART:20240310T080000
END:DAYLIGHT
BEGIN:STANDARD
TZOFFSETFROM:-0500
TZOFFSETTO:-0600
TZNAME:CST
DTSTART:20241103T070000
END:STANDARD
BEGIN:DAYLIGHT
TZOFFSETFROM:-0600
TZOFFSETTO:-0500
TZNAME:CDT
DTSTART:20250309T080000
END:DAYLIGHT
BEGIN:STANDARD
TZOFFSETFROM:-0500
TZOFFSETTO:-0600
TZNAME:CST
DTSTART:20251102T070000
END:STANDARD
BEGIN:DAYLIGHT
TZOFFSETFROM:-0600
TZOFFSETTO:-0500
TZNAME:CDT
DTSTART:20260308T080000
END:DAYLIGHT
BEGIN:STANDARD
TZOFFSETFROM:-0500
TZOFFSETTO:-0600
TZNAME:CST
DTSTART:20261101T070000
END:STANDARD
END:VTIMEZONE
BEGIN:VEVENT
DTSTART;TZID=America/Chicago:20250912T180000
DTEND;TZID=America/Chicago:20250914T120000
DTSTAMP:20260424T221747
CREATED:20250317T180318Z
LAST-MODIFIED:20250703T180229Z
UID:10000455-1757700000-1757851200@mnfreemasons.org
SUMMARY:The Masonic Camp 2025
DESCRIPTION:The Masonic Camp: A Weekend of Fellowship & Education for Master Masons \nJoin us for the 4th annual occurrence of The Masonic Camp (TMC)\, a weekend designed to immerse Master Masons in the timeless pursuit of knowledge\, camaraderie\, and reflection. Held in the serene embrace of nature\, this event offers a rare opportunity to reconnect with the true spirit of Freemasonry\, surrounded by towering pines\, crystal-clear waters\, and the peaceful sound of a crackling campfire. \nSince its founding in 2022\, TMC has been dedicated to Masonic education\, believing it to be the heart of the Craft’s purpose—sparking curiosity\, inspiring exploration\, and fostering a lifelong commitment to learning. This year\, as in the past\, we continue to explore the profound mysteries of Freemasonry\, delving into its rich history\, intricate philosophy\, and powerful symbolism. Our shared passion for the Western Esoteric Tradition remains central to our discussions\, guiding us through the many layers of meaning embedded within Masonic teachings. \nThis weekend retreat promises a perfect blend of Masonic education and heartfelt fellowship\, creating an atmosphere of reflection\, conversation\, and brotherhood. Step away from the hustle of daily life\, immerse yourself in thought-provoking presentations\, and lose yourself in the company of like-minded brothers. \nDon’t miss the opportunity to experience this unparalleled weekend of learning\, growth\, and fellowship—nestled in a tranquil\, private retreat that allows you to reconnect with the Craft and with each other.
URL:https://mnfreemasons.org/event/the-masonic-camp-2025/
LOCATION:Moccasin Valley Camp\, 34707 County Hwy-3\, Erhard\, MN\, 56534\, United States
CATEGORIES:Education
ATTACH;FMTTYPE=image/png:https://mnfreemasons.org/wp-content/uploads/2025/03/TMC25Flier.png
ORGANIZER;CN="The Masonic Camp%3A Evan Schroeder":MAILTO:MasonicCamp@gmail.com
END:VEVENT
END:VCALENDAR