BEGIN:VCALENDAR
VERSION:2.0
PRODID:-//Minnesota Freemasons - ECPv6.15.20//NONSGML v1.0//EN
CALSCALE:GREGORIAN
METHOD:PUBLISH
X-WR-CALNAME:Minnesota Freemasons
X-ORIGINAL-URL:https://mnfreemasons.org
X-WR-CALDESC:Events for Minnesota Freemasons
REFRESH-INTERVAL;VALUE=DURATION:PT1H
X-Robots-Tag:noindex
X-PUBLISHED-TTL:PT1H
BEGIN:VTIMEZONE
TZID:America/Chicago
BEGIN:DAYLIGHT
TZOFFSETFROM:-0600
TZOFFSETTO:-0500
TZNAME:CDT
DTSTART:20220313T080000
END:DAYLIGHT
BEGIN:STANDARD
TZOFFSETFROM:-0500
TZOFFSETTO:-0600
TZNAME:CST
DTSTART:20221106T070000
END:STANDARD
BEGIN:DAYLIGHT
TZOFFSETFROM:-0600
TZOFFSETTO:-0500
TZNAME:CDT
DTSTART:20230312T080000
END:DAYLIGHT
BEGIN:STANDARD
TZOFFSETFROM:-0500
TZOFFSETTO:-0600
TZNAME:CST
DTSTART:20231105T070000
END:STANDARD
BEGIN:DAYLIGHT
TZOFFSETFROM:-0600
TZOFFSETTO:-0500
TZNAME:CDT
DTSTART:20240310T080000
END:DAYLIGHT
BEGIN:STANDARD
TZOFFSETFROM:-0500
TZOFFSETTO:-0600
TZNAME:CST
DTSTART:20241103T070000
END:STANDARD
END:VTIMEZONE
BEGIN:VEVENT
DTSTART;VALUE=DATE:20230401
DTEND;VALUE=DATE:20230402
DTSTAMP:20260420T035713
CREATED:20221017T171348Z
LAST-MODIFIED:20230508T193822Z
UID:10000255-1680307200-1680393599@mnfreemasons.org
SUMMARY:SE Ritual Competition
DESCRIPTION:
URL:https://mnfreemasons.org/event/se-ritual-competition/
LOCATION:Rochester Lodge No. 21\, 2002 SW 2nd Street\, Rochester\, Minnesota\, 55901\, United States
CATEGORIES:Degree,Southeast Area
GEO:44.021258;-92.494347
X-APPLE-STRUCTURED-LOCATION;VALUE=URI;X-ADDRESS=Rochester Lodge No. 21 2002 SW 2nd Street Rochester Minnesota 55901 United States;X-APPLE-RADIUS=500;X-TITLE=2002 SW 2nd Street:geo:-92.494347,44.021258
END:VEVENT
BEGIN:VEVENT
DTSTART;TZID=America/Chicago:20230422T100000
DTEND;TZID=America/Chicago:20230422T153000
DTSTAMP:20260420T035713
CREATED:20230330T153123Z
LAST-MODIFIED:20230508T193821Z
UID:10000326-1682157600-1682177400@mnfreemasons.org
SUMMARY:Sherburne Lodge #95 - MM Degree
DESCRIPTION:The Brethren of Sherburne Lodge will be holding an MM Degree for our 4 Candidates. Due to their New Home being at a VFW for Meetings\, the Degree will be held at Compass Lodge #265 in Robbinsdale on Saturday\, April 22nd. The 1st Section will begin at 10am Sharp\, Break for lunch at 11:30am and Begin the 2nd Section of the work at 12:30pm.
URL:https://mnfreemasons.org/event/sherburne-lodge-95-mm-degree-3/
LOCATION:Compass Lodge No. 265\, 4228 W. Broadway\, Robbinsdale\, Minnesota\, 55422\, United States
CATEGORIES:Degree
ORGANIZER;CN="Sherburne Lodge #95":MAILTO:Sweetidiot@Aol.Com
GEO:45.032418;-93.340091
X-APPLE-STRUCTURED-LOCATION;VALUE=URI;X-ADDRESS=Compass Lodge No. 265 4228 W. Broadway Robbinsdale Minnesota 55422 United States;X-APPLE-RADIUS=500;X-TITLE=4228 W. Broadway:geo:-93.340091,45.032418
END:VEVENT
END:VCALENDAR