BEGIN:VCALENDAR
VERSION:2.0
PRODID:-//Minnesota Freemasons - ECPv6.15.20//NONSGML v1.0//EN
CALSCALE:GREGORIAN
METHOD:PUBLISH
X-WR-CALNAME:Minnesota Freemasons
X-ORIGINAL-URL:https://mnfreemasons.org
X-WR-CALDESC:Events for Minnesota Freemasons
REFRESH-INTERVAL;VALUE=DURATION:PT1H
X-Robots-Tag:noindex
X-PUBLISHED-TTL:PT1H
BEGIN:VTIMEZONE
TZID:America/Chicago
BEGIN:DAYLIGHT
TZOFFSETFROM:-0600
TZOFFSETTO:-0500
TZNAME:CDT
DTSTART:20210314T080000
END:DAYLIGHT
BEGIN:STANDARD
TZOFFSETFROM:-0500
TZOFFSETTO:-0600
TZNAME:CST
DTSTART:20211107T070000
END:STANDARD
BEGIN:DAYLIGHT
TZOFFSETFROM:-0600
TZOFFSETTO:-0500
TZNAME:CDT
DTSTART:20220313T080000
END:DAYLIGHT
BEGIN:STANDARD
TZOFFSETFROM:-0500
TZOFFSETTO:-0600
TZNAME:CST
DTSTART:20221106T070000
END:STANDARD
BEGIN:DAYLIGHT
TZOFFSETFROM:-0600
TZOFFSETTO:-0500
TZNAME:CDT
DTSTART:20230312T080000
END:DAYLIGHT
BEGIN:STANDARD
TZOFFSETFROM:-0500
TZOFFSETTO:-0600
TZNAME:CST
DTSTART:20231105T070000
END:STANDARD
END:VTIMEZONE
BEGIN:VEVENT
DTSTART;TZID=America/Chicago:20221023T180000
DTEND;TZID=America/Chicago:20221023T200000
DTSTAMP:20260422T104852
CREATED:20221017T171246Z
LAST-MODIFIED:20221017T174506Z
UID:10000230-1666548000-1666555200@mnfreemasons.org
SUMMARY:Hiram Award - St. Paul
DESCRIPTION:
URL:https://mnfreemasons.org/event/hiram-award/
LOCATION:Ancient Landmark Lodge No. 5\, 200 E Plato Blvd\, St. Paul\, Minnesota\, 55107\, United States
CATEGORIES:Awards Dinner,Metroeast Area
ORGANIZER;CN="Ancient Landmark Lodge No. 5":MAILTO:jeremy.nienow@gmail.com
GEO:44.939175;-93.079094
X-APPLE-STRUCTURED-LOCATION;VALUE=URI;X-ADDRESS=Ancient Landmark Lodge No. 5 200 E Plato Blvd St. Paul Minnesota 55107 United States;X-APPLE-RADIUS=500;X-TITLE=200 E Plato Blvd:geo:-93.079094,44.939175
END:VEVENT
END:VCALENDAR