BEGIN:VCALENDAR
VERSION:2.0
PRODID:-//Minnesota Freemasons - ECPv6.15.20//NONSGML v1.0//EN
CALSCALE:GREGORIAN
METHOD:PUBLISH
X-WR-CALNAME:Minnesota Freemasons
X-ORIGINAL-URL:https://mnfreemasons.org
X-WR-CALDESC:Events for Minnesota Freemasons
REFRESH-INTERVAL;VALUE=DURATION:PT1H
X-Robots-Tag:noindex
X-PUBLISHED-TTL:PT1H
BEGIN:VTIMEZONE
TZID:America/Chicago
BEGIN:DAYLIGHT
TZOFFSETFROM:-0600
TZOFFSETTO:-0500
TZNAME:CDT
DTSTART:20190310T080000
END:DAYLIGHT
BEGIN:STANDARD
TZOFFSETFROM:-0500
TZOFFSETTO:-0600
TZNAME:CST
DTSTART:20191103T070000
END:STANDARD
BEGIN:DAYLIGHT
TZOFFSETFROM:-0600
TZOFFSETTO:-0500
TZNAME:CDT
DTSTART:20200308T080000
END:DAYLIGHT
BEGIN:STANDARD
TZOFFSETFROM:-0500
TZOFFSETTO:-0600
TZNAME:CST
DTSTART:20201101T070000
END:STANDARD
BEGIN:DAYLIGHT
TZOFFSETFROM:-0600
TZOFFSETTO:-0500
TZNAME:CDT
DTSTART:20210314T080000
END:DAYLIGHT
BEGIN:STANDARD
TZOFFSETFROM:-0500
TZOFFSETTO:-0600
TZNAME:CST
DTSTART:20211107T070000
END:STANDARD
BEGIN:DAYLIGHT
TZOFFSETFROM:-0600
TZOFFSETTO:-0500
TZNAME:CDT
DTSTART:20220313T080000
END:DAYLIGHT
BEGIN:STANDARD
TZOFFSETFROM:-0500
TZOFFSETTO:-0600
TZNAME:CST
DTSTART:20221106T070000
END:STANDARD
BEGIN:DAYLIGHT
TZOFFSETFROM:-0600
TZOFFSETTO:-0500
TZNAME:CDT
DTSTART:20230312T080000
END:DAYLIGHT
BEGIN:STANDARD
TZOFFSETFROM:-0500
TZOFFSETTO:-0600
TZNAME:CST
DTSTART:20231105T070000
END:STANDARD
END:VTIMEZONE
BEGIN:VEVENT
DTSTART;TZID=America/Chicago:20221105T130000
DTEND;TZID=America/Chicago:20221105T150000
DTSTAMP:20260424T011048
CREATED:20220907T160036Z
LAST-MODIFIED:20221017T171519Z
UID:10000214-1667653200-1667660400@mnfreemasons.org
SUMMARY:MN Priory No. 24\, Knights of the York Cross of Honour
DESCRIPTION:Fall (semi-annual) meeting
URL:https://mnfreemasons.org/event/mn-priory-no-24-knights-of-the-york-cross-of-honour/2022-11-05/
LOCATION:Minneapolis Scottish Rite\, 2011 Dupont Avenue South\, Minneapolis\, MN\, 55405\, United States
CATEGORIES:Affiliated Body Events
ORGANIZER;CN="Mark Anderson":MAILTO:markandersonep@gmail.com
END:VEVENT
BEGIN:VEVENT
DTSTART;TZID=America/Chicago:20221105T090000
DTEND;TZID=America/Chicago:20221105T113000
DTSTAMP:20260424T011048
CREATED:20220907T154044Z
LAST-MODIFIED:20221017T171519Z
UID:10000210-1667638800-1667647800@mnfreemasons.org
SUMMARY:Minnesota York Rite College No. 39
DESCRIPTION:Fall (semi-annual) meeting
URL:https://mnfreemasons.org/event/minnesota-york-rite-college-no-39/2022-11-05/
LOCATION:Minneapolis Scottish Rite\, 2011 Dupont Avenue South\, Minneapolis\, MN\, 55405\, United States
CATEGORIES:Affiliated Body Events
ORGANIZER;CN="Mark Anderson":MAILTO:markandersonep@gmail.com
END:VEVENT
BEGIN:VEVENT
DTSTART;VALUE=DATE:20220521
DTEND;VALUE=DATE:20220522
DTSTAMP:20260424T011048
CREATED:20190910T215617Z
LAST-MODIFIED:20220907T162355Z
UID:10000152-1653091200-1653177599@mnfreemasons.org
SUMMARY:Red Cross of Constantine\, St. Olaf Conclave
DESCRIPTION:a the Minneapolis Scottish Rite Masonic Center
URL:https://mnfreemasons.org/event/red-cross-of-constantine-st-olaf-conclave-2/2022-05-21/
LOCATION:Minneapolis Scottish Rite\, 2011 Dupont Avenue South\, Minneapolis\, MN\, 55405\, United States
CATEGORIES:Affiliated Body Events
END:VEVENT
BEGIN:VEVENT
DTSTART;TZID=America/Chicago:20220324T180000
DTEND;TZID=America/Chicago:20220324T210000
DTSTAMP:20260424T011048
CREATED:20220217T144456Z
LAST-MODIFIED:20220217T144456Z
UID:10000166-1648144800-1648155600@mnfreemasons.org
SUMMARY:Ceremony of Remembrance and Renewal
DESCRIPTION:This is the night we honor those Brothers of the Minneapolis Valley who have passed into the Celestial Lodge Above and rent our ties as Scottish Rite Masons. It is an open event and all are welcome! \nIt has been a few years since we have been able to put this on and we really hope you will come out in support of all those who have passed! \nThe Ceremony is followed up by the Mystic Banquet where we renew our ties to the Rite and to each other. Again this is an open event and we hope you will attend both parts. \n6:00pm Fellowship Gathering Downstairs\n6:45pm Ceremony in Auditorium\n7:30pm Banquet in Dinning Hall \n$30.00 Per Person\nMeal Choices:\nBeef Medallions\nor Champagne Chicken \nReservations are required if attending dinner\, so Please RSVP to https://scottish-rite-mpls.org/…/chapter…/chapter-feast/
URL:https://mnfreemasons.org/event/mpls-remembrance-renewal/
LOCATION:Minneapolis Scottish Rite\, 2011 Dupont Avenue South\, Minneapolis\, MN\, 55405\, United States
CATEGORIES:Affiliated Body Events
ATTACH;FMTTYPE=:
ORGANIZER;CN="Minneapolis Scottish Rite":MAILTO:secretary@aasrmn.org
END:VEVENT
BEGIN:VEVENT
DTSTART;TZID=America/Chicago:20220319T080000
DTEND;TZID=America/Chicago:20220319T170000
DTSTAMP:20260424T011048
CREATED:20210421T144043Z
LAST-MODIFIED:20210421T144043Z
UID:10000161-1647676800-1647709200@mnfreemasons.org
SUMMARY:One Day to Knights Templar in Minnesota
DESCRIPTION:The Annual One Day to Knights Templar Commandery hosted by Zion Commandery #2. Location: Scottish Rite Masonic Center. Registration: 9AM
URL:https://mnfreemasons.org/event/one-day-to-knights-templar-in-minnesota/
LOCATION:Minneapolis Scottish Rite\, 2011 Dupont Avenue South\, Minneapolis\, MN\, 55405\, United States
CATEGORIES:Affiliated Body Events
ATTACH;FMTTYPE=:
ORGANIZER;CN="Zion Commandery #2":MAILTO:anderson8322@comcast.net
END:VEVENT
BEGIN:VEVENT
DTSTART;VALUE=DATE:20210515
DTEND;VALUE=DATE:20210516
DTSTAMP:20260424T011048
CREATED:20190910T215617Z
LAST-MODIFIED:20220907T162355Z
UID:10000151-1621036800-1621123199@mnfreemasons.org
SUMMARY:Red Cross of Constantine\, St. Olaf Conclave
DESCRIPTION:a the Minneapolis Scottish Rite Masonic Center
URL:https://mnfreemasons.org/event/red-cross-of-constantine-st-olaf-conclave-2/2021-05-15/
LOCATION:Minneapolis Scottish Rite\, 2011 Dupont Avenue South\, Minneapolis\, MN\, 55405\, United States
CATEGORIES:Affiliated Body Events
END:VEVENT
BEGIN:VEVENT
DTSTART;TZID=America/Chicago:20210507T183000
DTEND;TZID=America/Chicago:20210507T203000
DTSTAMP:20260424T011048
CREATED:20210322T194039Z
LAST-MODIFIED:20210322T194039Z
UID:10000160-1620412200-1620419400@mnfreemasons.org
SUMMARY:Orient of MN Scottish Rite 2021 Spring Reunion
DESCRIPTION:The ORIENT OF MINNESOTA is having a unique first ever membership event (Virtual and In-Person). \nWith the 4th – 14th Degrees being presented Virtually Online starting on Thursday the 6th of May at 6:30 pm and continuing the presentation on Friday the 7th of May at 6:30 pm \n* In-Person Degrees times & dates may vary at YOUR Scottish Rite Valley\nMinneapolis Valley will be presenting in-person Degree\’s -18th (5/13 @ 6:30pm)\, -30th (5/20 @ 6:30pm)\, and -32nd (5/22 @ 1:0pm). \nAll Master Masons ae eligible to petition the Scottish Rite. Please contact your Double Eagle for more details on this great opportunity or call your Scottish Rite Valley Office.
URL:https://mnfreemasons.org/event/orient-of-mn-scottish-rite-2021-spring-reunion-4/2021-05-07/
LOCATION:MN
CATEGORIES:Affiliated Body Events
END:VEVENT
BEGIN:VEVENT
DTSTART;TZID=America/Chicago:20210506T183000
DTEND;TZID=America/Chicago:20210506T203000
DTSTAMP:20260424T011048
CREATED:20210322T194039Z
LAST-MODIFIED:20210322T194039Z
UID:10000159-1620325800-1620333000@mnfreemasons.org
SUMMARY:Orient of MN Scottish Rite 2021 Spring Reunion
DESCRIPTION:The ORIENT OF MINNESOTA is having a unique first ever membership event (Virtual and In-Person). \nWith the 4th – 14th Degrees being presented Virtually Online starting on Thursday the 6th of May at 6:30 pm and continuing the presentation on Friday the 7th of May at 6:30 pm \n* In-Person Degrees times & dates may vary at YOUR Scottish Rite Valley\nMinneapolis Valley will be presenting in-person Degree\’s -18th (5/13 @ 6:30pm)\, -30th (5/20 @ 6:30pm)\, and -32nd (5/22 @ 1:0pm). \nAll Master Masons ae eligible to petition the Scottish Rite. Please contact your Double Eagle for more details on this great opportunity or call your Scottish Rite Valley Office.
URL:https://mnfreemasons.org/event/orient-of-mn-scottish-rite-2021-spring-reunion-4/2021-05-06/
LOCATION:MN
CATEGORIES:Affiliated Body Events
END:VEVENT
BEGIN:VEVENT
DTSTART;VALUE=DATE:20200516
DTEND;VALUE=DATE:20200517
DTSTAMP:20260424T011048
CREATED:20190910T215617Z
LAST-MODIFIED:20220907T162355Z
UID:10000150-1589587200-1589673599@mnfreemasons.org
SUMMARY:Red Cross of Constantine\, St. Olaf Conclave
DESCRIPTION:a the Minneapolis Scottish Rite Masonic Center
URL:https://mnfreemasons.org/event/red-cross-of-constantine-st-olaf-conclave-2/2020-05-16/
LOCATION:Minneapolis Scottish Rite\, 2011 Dupont Avenue South\, Minneapolis\, MN\, 55405\, United States
CATEGORIES:Affiliated Body Events
END:VEVENT
END:VCALENDAR